BEGIN:VCALENDAR
VERSION:2.0
PRODID:-//charleswiley.net - ECPv6.15.13//NONSGML v1.0//EN
CALSCALE:GREGORIAN
METHOD:PUBLISH
X-ORIGINAL-URL:https://charleswiley.net
X-WR-CALDESC:Events for charleswiley.net
REFRESH-INTERVAL;VALUE=DURATION:PT1H
X-Robots-Tag:noindex
X-PUBLISHED-TTL:PT1H
BEGIN:VTIMEZONE
TZID:America/Los_Angeles
BEGIN:DAYLIGHT
TZOFFSETFROM:-0800
TZOFFSETTO:-0700
TZNAME:PDT
DTSTART:20180311T100000
END:DAYLIGHT
BEGIN:STANDARD
TZOFFSETFROM:-0700
TZOFFSETTO:-0800
TZNAME:PST
DTSTART:20181104T090000
END:STANDARD
BEGIN:DAYLIGHT
TZOFFSETFROM:-0800
TZOFFSETTO:-0700
TZNAME:PDT
DTSTART:20190310T100000
END:DAYLIGHT
BEGIN:STANDARD
TZOFFSETFROM:-0700
TZOFFSETTO:-0800
TZNAME:PST
DTSTART:20191103T090000
END:STANDARD
BEGIN:DAYLIGHT
TZOFFSETFROM:-0800
TZOFFSETTO:-0700
TZNAME:PDT
DTSTART:20200308T100000
END:DAYLIGHT
BEGIN:STANDARD
TZOFFSETFROM:-0700
TZOFFSETTO:-0800
TZNAME:PST
DTSTART:20201101T090000
END:STANDARD
BEGIN:DAYLIGHT
TZOFFSETFROM:-0800
TZOFFSETTO:-0700
TZNAME:PDT
DTSTART:20210314T100000
END:DAYLIGHT
BEGIN:STANDARD
TZOFFSETFROM:-0700
TZOFFSETTO:-0800
TZNAME:PST
DTSTART:20211107T090000
END:STANDARD
END:VTIMEZONE
BEGIN:VTIMEZONE
TZID:Pacific/Honolulu
BEGIN:STANDARD
TZOFFSETFROM:-1000
TZOFFSETTO:-1000
TZNAME:HST
DTSTART:20180101T000000
END:STANDARD
END:VTIMEZONE
BEGIN:VTIMEZONE
TZID:America/New_York
BEGIN:DAYLIGHT
TZOFFSETFROM:-0500
TZOFFSETTO:-0400
TZNAME:EDT
DTSTART:20180311T070000
END:DAYLIGHT
BEGIN:STANDARD
TZOFFSETFROM:-0400
TZOFFSETTO:-0500
TZNAME:EST
DTSTART:20181104T060000
END:STANDARD
BEGIN:DAYLIGHT
TZOFFSETFROM:-0500
TZOFFSETTO:-0400
TZNAME:EDT
DTSTART:20190310T070000
END:DAYLIGHT
BEGIN:STANDARD
TZOFFSETFROM:-0400
TZOFFSETTO:-0500
TZNAME:EST
DTSTART:20191103T060000
END:STANDARD
BEGIN:DAYLIGHT
TZOFFSETFROM:-0500
TZOFFSETTO:-0400
TZNAME:EDT
DTSTART:20200308T070000
END:DAYLIGHT
BEGIN:STANDARD
TZOFFSETFROM:-0400
TZOFFSETTO:-0500
TZNAME:EST
DTSTART:20201101T060000
END:STANDARD
END:VTIMEZONE
BEGIN:VTIMEZONE
TZID:America/Chicago
BEGIN:DAYLIGHT
TZOFFSETFROM:-0600
TZOFFSETTO:-0500
TZNAME:CDT
DTSTART:20180311T080000
END:DAYLIGHT
BEGIN:STANDARD
TZOFFSETFROM:-0500
TZOFFSETTO:-0600
TZNAME:CST
DTSTART:20181104T070000
END:STANDARD
BEGIN:DAYLIGHT
TZOFFSETFROM:-0600
TZOFFSETTO:-0500
TZNAME:CDT
DTSTART:20190310T080000
END:DAYLIGHT
BEGIN:STANDARD
TZOFFSETFROM:-0500
TZOFFSETTO:-0600
TZNAME:CST
DTSTART:20191103T070000
END:STANDARD
BEGIN:DAYLIGHT
TZOFFSETFROM:-0600
TZOFFSETTO:-0500
TZNAME:CDT
DTSTART:20200308T080000
END:DAYLIGHT
BEGIN:STANDARD
TZOFFSETFROM:-0500
TZOFFSETTO:-0600
TZNAME:CST
DTSTART:20201101T070000
END:STANDARD
END:VTIMEZONE
BEGIN:VEVENT
DTSTART;TZID=America/Los_Angeles:20200228T200000
DTEND;TZID=America/Los_Angeles:20200228T230000
DTSTAMP:20260424T060128
CREATED:20200215T190631Z
LAST-MODIFIED:20200215T190631Z
UID:12459-1582920000-1582930800@charleswiley.net
SUMMARY:Oleg Sweet
DESCRIPTION:Russian Solution
URL:https://charleswiley.net/show/oleg-sweet-2/
LOCATION:Brick and Mortar Music Hall\, 1710 Mission Street\, San Francisco\, CA\, 94103\, United States
ATTACH;FMTTYPE=image/png:https://charleswiley.net/wp-content/uploads/2020/02/Russian-Solution-02.28.20.png
END:VEVENT
BEGIN:VEVENT
DTSTART;TZID=America/Los_Angeles:20200215T210000
DTEND;TZID=America/Los_Angeles:20200215T220000
DTSTAMP:20260424T060128
CREATED:20191126T031343Z
LAST-MODIFIED:20200128T053417Z
UID:6574-1581800400-1581804000@charleswiley.net
SUMMARY:Darkhorse Rising
DESCRIPTION:Opening for the Quireboys
URL:https://charleswiley.net/show/darkhorse-rising-11/
LOCATION:Whisky a Go Go\, 8901 Sunset Blvd\, West Hollywood\, CA\, 90069\, United States
ATTACH;FMTTYPE=image/jpeg:https://charleswiley.net/wp-content/uploads/2019/11/02.15.20-Event-banner.jpg
END:VEVENT
BEGIN:VEVENT
DTSTART;TZID=America/Los_Angeles:20200201T210000
DTEND;TZID=America/Los_Angeles:20200201T220000
DTSTAMP:20260424T060128
CREATED:20191126T030841Z
LAST-MODIFIED:20191222T073057Z
UID:6569-1580590800-1580594400@charleswiley.net
SUMMARY:Oleg Sweet
DESCRIPTION:
URL:https://charleswiley.net/show/oleg-sweet/
LOCATION:Troubadour\, 9081 N Santa Monica Blvd\, West Hollywood\, CA\, 90069\, United States
ATTACH;FMTTYPE=image/jpeg:https://charleswiley.net/wp-content/uploads/2019/11/Russian-Rock-Night-02.01.20.jpg
END:VEVENT
BEGIN:VEVENT
DTSTART;TZID=America/Los_Angeles:20200116T200000
DTEND;TZID=America/Los_Angeles:20200116T210000
DTSTAMP:20260424T060128
CREATED:20190828T013705Z
LAST-MODIFIED:20191126T031517Z
UID:2156-1579204800-1579208400@charleswiley.net
SUMMARY:Kris Angelis
DESCRIPTION:
URL:https://charleswiley.net/show/kris-angelis-30/
LOCATION:Hotel Cafe\, 1623 N Cahuenga Blvd\, Los Angeles\, CA\, 90028\, United States
ATTACH;FMTTYPE=image/jpeg:https://charleswiley.net/wp-content/uploads/2016/02/Kris-Angelis.jpg
END:VEVENT
BEGIN:VEVENT
DTSTART;TZID=America/Los_Angeles:20191230T210000
DTEND;TZID=America/Los_Angeles:20191230T220000
DTSTAMP:20260424T060128
CREATED:20191126T031216Z
LAST-MODIFIED:20191126T031216Z
UID:6571-1577739600-1577743200@charleswiley.net
SUMMARY:Darkhorse Rising
DESCRIPTION:
URL:https://charleswiley.net/show/darkhorse-rising-10/
LOCATION:Whisky a Go Go\, 8901 Sunset Blvd\, West Hollywood\, CA\, 90069\, United States
ATTACH;FMTTYPE=image/jpeg:https://charleswiley.net/wp-content/uploads/2019/11/DHR-flames.jpg
END:VEVENT
BEGIN:VEVENT
DTSTART;TZID=America/Los_Angeles:20191228T210000
DTEND;TZID=America/Los_Angeles:20191228T235900
DTSTAMP:20260424T060128
CREATED:20191222T073225Z
LAST-MODIFIED:20191222T073225Z
UID:8118-1577566800-1577577540@charleswiley.net
SUMMARY:Mini Driver
DESCRIPTION:
URL:https://charleswiley.net/show/mini-driver-5/
LOCATION:Star Lounge\, 343 E Main St.\, Ventura\, CA\, 93001\, United States
END:VEVENT
BEGIN:VEVENT
DTSTART;TZID=America/Los_Angeles:20191214T210000
DTEND;TZID=America/Los_Angeles:20191214T230000
DTSTAMP:20260424T060128
CREATED:20191126T030734Z
LAST-MODIFIED:20210610T040943Z
UID:6567-1576357200-1576364400@charleswiley.net
SUMMARY:Nicolas Fresard Trio
DESCRIPTION:
URL:https://charleswiley.net/show/nicolas-fresard-trio/
LOCATION:Kings Row Gastropub\, 20 E Colorado Blvd\, Pasadena\, CA\, 91103\, United States
END:VEVENT
BEGIN:VEVENT
DTSTART;TZID=America/Los_Angeles:20191129T210000
DTEND;TZID=America/Los_Angeles:20191129T220000
DTSTAMP:20260424T060128
CREATED:20191126T030327Z
LAST-MODIFIED:20191126T030441Z
UID:6558-1575061200-1575064800@charleswiley.net
SUMMARY:Fantazzmo
DESCRIPTION:Opening for Hollywood Roses
URL:https://charleswiley.net/show/fantazzmo-51/
LOCATION:Whisky a Go Go\, 8901 Sunset Blvd\, West Hollywood\, CA\, 90069\, United States
ATTACH;FMTTYPE=image/png:https://charleswiley.net/wp-content/uploads/2019/11/Whisky-show-11.29.19.png
END:VEVENT
BEGIN:VEVENT
DTSTART;TZID=Pacific/Honolulu:20191116T210000
DTEND;TZID=Pacific/Honolulu:20191117T010000
DTSTAMP:20260424T060128
CREATED:20190828T013210Z
LAST-MODIFIED:20190828T013414Z
UID:2152-1573938000-1573952400@charleswiley.net
SUMMARY:DarkHorse Rising
DESCRIPTION:
URL:https://charleswiley.net/show/darkhorse-rising-9/
LOCATION:Anna O’Brien’s\, 2440 S Beretania St\, Honolulu\, HI\, 96826\, United States
ATTACH;FMTTYPE=image/jpeg:https://charleswiley.net/wp-content/uploads/2019/08/11.16.19-Hawaii-show-fixed.jpg
END:VEVENT
BEGIN:VEVENT
DTSTART;VALUE=DATE:20191102
DTEND;VALUE=DATE:20191103
DTSTAMP:20260424T060128
CREATED:20190828T012705Z
LAST-MODIFIED:20190828T014036Z
UID:2150-1572652800-1572739199@charleswiley.net
SUMMARY:Two Way Light
DESCRIPTION:
URL:https://charleswiley.net/show/two-way-light-10/
LOCATION:Private Event-Imperial\, Imperial\, CA\, United States
ATTACH;FMTTYPE=image/jpeg:https://charleswiley.net/wp-content/uploads/2016/02/Two-Way-Light.jpg
END:VEVENT
BEGIN:VEVENT
DTSTART;TZID=America/Los_Angeles:20191019T110000
DTEND;TZID=America/Los_Angeles:20191019T170000
DTSTAMP:20260424T060128
CREATED:20190522T023357Z
LAST-MODIFIED:20190522T023435Z
UID:2031-1571482800-1571504400@charleswiley.net
SUMMARY:Coastal Cornucopia
DESCRIPTION:Corn Man Event – Books\, CD’s and merch will be on display and for sale
URL:https://charleswiley.net/show/coastal-cornucopia/
LOCATION:Mendocino Coast Botanical Gardens\, 18220 North Highway 1\, Fort Bragg\, CA\, 95437\, United States
ATTACH;FMTTYPE=image/jpeg:https://charleswiley.net/wp-content/uploads/2017/04/corn-banner.jpg
END:VEVENT
BEGIN:VEVENT
DTSTART;TZID=America/New_York:20191006T200000
DTEND;TZID=America/New_York:20191006T220000
DTSTAMP:20260424T060128
CREATED:20190828T012507Z
LAST-MODIFIED:20190828T015331Z
UID:2148-1570392000-1570399200@charleswiley.net
SUMMARY:Ryatt and Fantazzmo
DESCRIPTION:
URL:https://charleswiley.net/show/ryatt-and-fantazzmo-23/
LOCATION:Acadia Bar and Grill\, 3939 Cypress Creek Pkwy\, Houston\, TX\, 77014\, United States
END:VEVENT
BEGIN:VEVENT
DTSTART;TZID=America/New_York:20191005T200000
DTEND;TZID=America/New_York:20191005T220000
DTSTAMP:20260424T060128
CREATED:20190828T012357Z
LAST-MODIFIED:20190828T015200Z
UID:2145-1570305600-1570312800@charleswiley.net
SUMMARY:Ryatt and Fantazzmo
DESCRIPTION:
URL:https://charleswiley.net/show/ryatt-and-fantazzmo-22/
LOCATION:Reno’s Chop Shop Saloon\, 210 N Crowdus St\, Dallas\, TX\, 75226\, United States
END:VEVENT
BEGIN:VEVENT
DTSTART;TZID=America/New_York:20191004T200000
DTEND;TZID=America/New_York:20191004T220000
DTSTAMP:20260424T060128
CREATED:20190828T012110Z
LAST-MODIFIED:20190828T014938Z
UID:2143-1570219200-1570226400@charleswiley.net
SUMMARY:Ryatt and Fantazzmo
DESCRIPTION:
URL:https://charleswiley.net/show/ryatt-and-fantazzmo-21/
LOCATION:Cold Brew Rock Bar\, 4500 San Bernardo Avenue Suite 103\, Laredo\, TX\, 78046\, United States
END:VEVENT
BEGIN:VEVENT
DTSTART;TZID=America/New_York:20191003T200000
DTEND;TZID=America/New_York:20191003T220000
DTSTAMP:20260424T060128
CREATED:20190828T012009Z
LAST-MODIFIED:20190828T021223Z
UID:2141-1570132800-1570140000@charleswiley.net
SUMMARY:Ryatt and Fantazzmo
DESCRIPTION:
URL:https://charleswiley.net/show/ryatt-and-fantazzmo-20/
LOCATION:Dirty Dog Bar\, 505 E 6th St\, Austin\, TX\, 78707\, United States
END:VEVENT
BEGIN:VEVENT
DTSTART;TZID=America/New_York:20191002T200000
DTEND;TZID=America/New_York:20191002T220000
DTSTAMP:20260424T060128
CREATED:20190828T011803Z
LAST-MODIFIED:20190828T021030Z
UID:2138-1570046400-1570053600@charleswiley.net
SUMMARY:Ryatt and Fantazzmo
DESCRIPTION:
URL:https://charleswiley.net/show/ryatt-and-fantazzmo-19/
LOCATION:Lola’s Trailer Park Bar\, 2735 W 5th St\, Fort Worth\, TX\, 76107\, United States
END:VEVENT
BEGIN:VEVENT
DTSTART;TZID=America/New_York:20191001T200000
DTEND;TZID=America/New_York:20191001T220000
DTSTAMP:20260424T060128
CREATED:20190828T011511Z
LAST-MODIFIED:20190828T020729Z
UID:2136-1569960000-1569967200@charleswiley.net
SUMMARY:Ryatt and Fantazzmo
DESCRIPTION:
URL:https://charleswiley.net/show/ryatt-and-fantazzmo-18/
LOCATION:The Gathering\, 224 1/2 W Houston Street\, Sherman\, TX\, 75090​\, United States
END:VEVENT
BEGIN:VEVENT
DTSTART;TZID=America/New_York:20190928T200000
DTEND;TZID=America/New_York:20190928T220000
DTSTAMP:20260424T060128
CREATED:20190828T011338Z
LAST-MODIFIED:20190828T020559Z
UID:2133-1569700800-1569708000@charleswiley.net
SUMMARY:Ryatt and Fantazzmo
DESCRIPTION:
URL:https://charleswiley.net/show/ryatt-and-fantazzmo-17/
LOCATION:Railhead Saloon\, 911 SW Sheridan Rd\, Lawton\, OK\, 73505\, United States
END:VEVENT
BEGIN:VEVENT
DTSTART;TZID=America/New_York:20190927T200000
DTEND;TZID=America/New_York:20190927T220000
DTSTAMP:20260424T060128
CREATED:20190828T010933Z
LAST-MODIFIED:20190828T020436Z
UID:2131-1569614400-1569621600@charleswiley.net
SUMMARY:Ryatt and Fantazzmo
DESCRIPTION:
URL:https://charleswiley.net/show/ryatt-and-fantazzmo-16/
LOCATION:O’Riley’s\, 8989 Forest Ln #120\, Dallas\, TX\, 75243\, United States
END:VEVENT
BEGIN:VEVENT
DTSTART;TZID=America/Chicago:20190926T200000
DTEND;TZID=America/Chicago:20190926T220000
DTSTAMP:20260424T060128
CREATED:20190828T010555Z
LAST-MODIFIED:20190828T015633Z
UID:2128-1569528000-1569535200@charleswiley.net
SUMMARY:Ryatt and Fantazzmo
DESCRIPTION:
URL:https://charleswiley.net/show/ryatt-and-fantazzmo-15/
LOCATION:B-17 Bombers Oyster Pub\, 201 S El Paso St\, El Paso\, TX\, 79901\, United States
END:VEVENT
BEGIN:VEVENT
DTSTART;TZID=America/Los_Angeles:20190908T130000
DTEND;TZID=America/Los_Angeles:20190908T140000
DTSTAMP:20260424T060128
CREATED:20190828T010212Z
LAST-MODIFIED:20190828T010212Z
UID:2126-1567947600-1567951200@charleswiley.net
SUMMARY:Yoga for Drummers
DESCRIPTION:$10 Suggested Donation
URL:https://charleswiley.net/show/yoga-for-drummers-2/
LOCATION:Yogi Tree\, 4475 Vineland Ave\, North Hollywood\, 91602\, United States
END:VEVENT
BEGIN:VEVENT
DTSTART;TZID=America/Los_Angeles:20190907T160000
DTEND;TZID=America/Los_Angeles:20190907T173000
DTSTAMP:20260424T060128
CREATED:20190828T005958Z
LAST-MODIFIED:20190828T005958Z
UID:2122-1567872000-1567877400@charleswiley.net
SUMMARY:Dork Band
DESCRIPTION:
URL:https://charleswiley.net/show/dork-band/
LOCATION:Avocado & Margarita Street Festival\, 714 Embarcadero Drive\, Morro Bay\, CA\, 93442\, United States
END:VEVENT
BEGIN:VEVENT
DTSTART;TZID=America/Los_Angeles:20190825T130000
DTEND;TZID=America/Los_Angeles:20190825T160000
DTSTAMP:20260424T060128
CREATED:20190522T022809Z
LAST-MODIFIED:20190522T022809Z
UID:2026-1566738000-1566748800@charleswiley.net
SUMMARY:DJ Blues
DESCRIPTION:
URL:https://charleswiley.net/show/dj-blues-3/
LOCATION:Hotel Léger Restaurant & Saloon\, 8304 Main Street\, Mokelumne Hill\, CA\, 95245\, United States
END:VEVENT
BEGIN:VEVENT
DTSTART;TZID=America/Los_Angeles:20190815T220000
DTEND;TZID=America/Los_Angeles:20190816T010000
DTSTAMP:20260424T060128
CREATED:20190703T223630Z
LAST-MODIFIED:20190703T223630Z
UID:2090-1565906400-1565917200@charleswiley.net
SUMMARY:Mix 3
DESCRIPTION:
URL:https://charleswiley.net/show/mix-3-40/
LOCATION:Basement Tavern\, 2640 Main St\, Santa Monica\, CA\, 90405\, United States
END:VEVENT
BEGIN:VEVENT
DTSTART;TZID=America/Los_Angeles:20190808T190000
DTEND;TZID=America/Los_Angeles:20190808T203000
DTSTAMP:20260424T060128
CREATED:20190522T021950Z
LAST-MODIFIED:20190522T021950Z
UID:2021-1565290800-1565296200@charleswiley.net
SUMMARY:Electric Vinyl
DESCRIPTION:Electric Vinyl – formerly the Skinny Little Twits (SLT) \nWhittier Summer Concert Series
URL:https://charleswiley.net/show/electric-vinyl/
LOCATION:Parnell Park\, 15390 Lambert Road\, Whittier\, CA\, 90604\, United States
END:VEVENT
BEGIN:VEVENT
DTSTART;VALUE=DATE:20190803
DTEND;VALUE=DATE:20190805
DTSTAMP:20260424T060128
CREATED:20190614T003510Z
LAST-MODIFIED:20190614T003749Z
UID:2059-1564790400-1564963199@charleswiley.net
SUMMARY:Mother Earth News Fair
DESCRIPTION:Corn Man Event – Books\, CD’s and merch will be on display and for sale
URL:https://charleswiley.net/show/mother-earth-news-fair/
LOCATION:Linn County Fairgrounds\, 3700 Knox Butte Rd E\, Albany\, OR\, 97322\, United States
ATTACH;FMTTYPE=image/jpeg:https://charleswiley.net/wp-content/uploads/2017/04/corn-banner.jpg
END:VEVENT
BEGIN:VEVENT
DTSTART;TZID=America/Los_Angeles:20190720T210000
DTEND;TZID=America/Los_Angeles:20190721T010000
DTSTAMP:20260424T060128
CREATED:20190703T223455Z
LAST-MODIFIED:20190703T223455Z
UID:2087-1563656400-1563670800@charleswiley.net
SUMMARY:Mini Driver
DESCRIPTION:
URL:https://charleswiley.net/show/mini-driver-4/
LOCATION:Star Lounge\, 343 E Main St.\, Ventura\, CA\, 93001\, United States
END:VEVENT
BEGIN:VEVENT
DTSTART;TZID=America/Los_Angeles:20190720T130000
DTEND;TZID=America/Los_Angeles:20190720T150000
DTSTAMP:20260424T060128
CREATED:20190703T223156Z
LAST-MODIFIED:20190703T223156Z
UID:2084-1563627600-1563634800@charleswiley.net
SUMMARY:Mini Driver
DESCRIPTION:The Camarillo Fiesta & Street Fair
URL:https://charleswiley.net/show/mini-driver-3/
LOCATION:Camarillo Fiesta\, 2222 Ventura Blvd.\, Camarillo\, CA\, 93010\, United States
END:VEVENT
BEGIN:VEVENT
DTSTART;TZID=America/Los_Angeles:20190715T210000
DTEND;TZID=America/Los_Angeles:20190715T220000
DTSTAMP:20260424T060128
CREATED:20190703T222436Z
LAST-MODIFIED:20190703T222436Z
UID:2079-1563224400-1563228000@charleswiley.net
SUMMARY:Miss Jupiter
DESCRIPTION:
URL:https://charleswiley.net/show/miss-jupiter/
LOCATION:Bootleg Theater\, 2220 Beverly Blvd.\, Los Angeles\, CA\, 90057\, United States
ATTACH;FMTTYPE=image/jpeg:https://charleswiley.net/wp-content/uploads/2019/07/Miss_Jupiter.jpg
END:VEVENT
BEGIN:VEVENT
DTSTART;TZID=America/Los_Angeles:20190711T220000
DTEND;TZID=America/Los_Angeles:20190712T010000
DTSTAMP:20260424T060128
CREATED:20190703T221328Z
LAST-MODIFIED:20190703T221328Z
UID:2077-1562882400-1562893200@charleswiley.net
SUMMARY:Mix 3
DESCRIPTION:
URL:https://charleswiley.net/show/mix-3-39/
LOCATION:Auld Dubliner\, 71 South Pine Ave\, Long Beach\, CA\, 90802\, United States
END:VEVENT
END:VCALENDAR