BEGIN:VCALENDAR
VERSION:2.0
PRODID:-//charleswiley.net - ECPv6.15.13//NONSGML v1.0//EN
CALSCALE:GREGORIAN
METHOD:PUBLISH
X-WR-CALNAME:charleswiley.net
X-ORIGINAL-URL:https://charleswiley.net
X-WR-CALDESC:Events for charleswiley.net
REFRESH-INTERVAL;VALUE=DURATION:PT1H
X-Robots-Tag:noindex
X-PUBLISHED-TTL:PT1H
BEGIN:VTIMEZONE
TZID:America/Los_Angeles
BEGIN:DAYLIGHT
TZOFFSETFROM:-0800
TZOFFSETTO:-0700
TZNAME:PDT
DTSTART:20150308T100000
END:DAYLIGHT
BEGIN:STANDARD
TZOFFSETFROM:-0700
TZOFFSETTO:-0800
TZNAME:PST
DTSTART:20151101T090000
END:STANDARD
BEGIN:DAYLIGHT
TZOFFSETFROM:-0800
TZOFFSETTO:-0700
TZNAME:PDT
DTSTART:20160313T100000
END:DAYLIGHT
BEGIN:STANDARD
TZOFFSETFROM:-0700
TZOFFSETTO:-0800
TZNAME:PST
DTSTART:20161106T090000
END:STANDARD
BEGIN:DAYLIGHT
TZOFFSETFROM:-0800
TZOFFSETTO:-0700
TZNAME:PDT
DTSTART:20170312T100000
END:DAYLIGHT
BEGIN:STANDARD
TZOFFSETFROM:-0700
TZOFFSETTO:-0800
TZNAME:PST
DTSTART:20171105T090000
END:STANDARD
END:VTIMEZONE
BEGIN:VEVENT
DTSTART;TZID=America/Los_Angeles:20160812T200000
DTEND;TZID=America/Los_Angeles:20160813T020000
DTSTAMP:20260425T193800
CREATED:20160511T053649Z
LAST-MODIFIED:20160511T060745Z
UID:369-1471032000-1471053600@charleswiley.net
SUMMARY:Fantazzmo
DESCRIPTION:
URL:https://charleswiley.net/show/fantazzmo-23/
LOCATION:One Eyed Jack’s Saloon\, 1304 Main St\, Sturgis\, SD\, 57785\, United States
END:VEVENT
BEGIN:VEVENT
DTSTART;TZID=America/Los_Angeles:20160811T200000
DTEND;TZID=America/Los_Angeles:20160812T020000
DTSTAMP:20260425T193800
CREATED:20160511T053649Z
LAST-MODIFIED:20160511T060704Z
UID:368-1470945600-1470967200@charleswiley.net
SUMMARY:Fantazzmo
DESCRIPTION:
URL:https://charleswiley.net/show/fantazzmo-22/
LOCATION:One Eyed Jack’s Saloon\, 1304 Main St\, Sturgis\, SD\, 57785\, United States
END:VEVENT
BEGIN:VEVENT
DTSTART;TZID=America/Los_Angeles:20160810T200000
DTEND;TZID=America/Los_Angeles:20160811T020000
DTSTAMP:20260425T193800
CREATED:20160511T053649Z
LAST-MODIFIED:20160511T060626Z
UID:367-1470859200-1470880800@charleswiley.net
SUMMARY:Fantazzmo
DESCRIPTION:
URL:https://charleswiley.net/show/fantazzmo-21/
LOCATION:One Eyed Jack’s Saloon\, 1304 Main St\, Sturgis\, SD\, 57785\, United States
END:VEVENT
BEGIN:VEVENT
DTSTART;TZID=America/Los_Angeles:20160809T200000
DTEND;TZID=America/Los_Angeles:20160810T020000
DTSTAMP:20260425T193800
CREATED:20160511T053649Z
LAST-MODIFIED:20160511T060554Z
UID:366-1470772800-1470794400@charleswiley.net
SUMMARY:Fantazzmo
DESCRIPTION:
URL:https://charleswiley.net/show/fantazzmo-20/
LOCATION:One Eyed Jack’s Saloon\, 1304 Main St\, Sturgis\, SD\, 57785\, United States
END:VEVENT
BEGIN:VEVENT
DTSTART;TZID=America/Los_Angeles:20160808T200000
DTEND;TZID=America/Los_Angeles:20160809T020000
DTSTAMP:20260425T193800
CREATED:20160511T053649Z
LAST-MODIFIED:20160511T060521Z
UID:365-1470686400-1470708000@charleswiley.net
SUMMARY:Fantazzmo
DESCRIPTION:
URL:https://charleswiley.net/show/fantazzmo-19/
LOCATION:One Eyed Jack’s Saloon\, 1304 Main St\, Sturgis\, SD\, 57785\, United States
END:VEVENT
BEGIN:VEVENT
DTSTART;TZID=America/Los_Angeles:20160807T200000
DTEND;TZID=America/Los_Angeles:20160808T020000
DTSTAMP:20260425T193800
CREATED:20160511T053649Z
LAST-MODIFIED:20160511T060437Z
UID:364-1470600000-1470621600@charleswiley.net
SUMMARY:Fantazzmo
DESCRIPTION:
URL:https://charleswiley.net/show/fantazzmo-18/
LOCATION:One Eyed Jack’s Saloon\, 1304 Main St\, Sturgis\, SD\, 57785\, United States
END:VEVENT
BEGIN:VEVENT
DTSTART;TZID=America/Los_Angeles:20160806T200000
DTEND;TZID=America/Los_Angeles:20160807T020000
DTSTAMP:20260425T193800
CREATED:20160511T053649Z
LAST-MODIFIED:20160511T060348Z
UID:363-1470513600-1470535200@charleswiley.net
SUMMARY:Fantazzmo
DESCRIPTION:
URL:https://charleswiley.net/show/fantazzmo-17/
LOCATION:One Eyed Jack’s Saloon\, 1304 Main St\, Sturgis\, SD\, 57785\, United States
END:VEVENT
BEGIN:VEVENT
DTSTART;TZID=America/Los_Angeles:20160805T200000
DTEND;TZID=America/Los_Angeles:20160806T020000
DTSTAMP:20260425T193800
CREATED:20160511T053649Z
LAST-MODIFIED:20160511T060302Z
UID:362-1470427200-1470448800@charleswiley.net
SUMMARY:Fantazzmo
DESCRIPTION:
URL:https://charleswiley.net/show/fantazzmo-16/
LOCATION:One Eyed Jack’s Saloon\, 1304 Main St\, Sturgis\, SD\, 57785\, United States
END:VEVENT
BEGIN:VEVENT
DTSTART;TZID=America/Los_Angeles:20160804T200000
DTEND;TZID=America/Los_Angeles:20160805T020000
DTSTAMP:20260425T193800
CREATED:20160511T053649Z
LAST-MODIFIED:20160511T060051Z
UID:361-1470340800-1470362400@charleswiley.net
SUMMARY:Fantazzmo
DESCRIPTION:
URL:https://charleswiley.net/show/fantazzmo-15/
LOCATION:One Eyed Jack’s Saloon\, 1304 Main St\, Sturgis\, SD\, 57785\, United States
END:VEVENT
BEGIN:VEVENT
DTSTART;TZID=America/Los_Angeles:20160803T200000
DTEND;TZID=America/Los_Angeles:20160803T210000
DTSTAMP:20260425T193800
CREATED:20160615T054338Z
LAST-MODIFIED:20160615T054745Z
UID:386-1470254400-1470258000@charleswiley.net
SUMMARY:Fantazzmo
DESCRIPTION: 
URL:https://charleswiley.net/show/fantazzmo-26/
LOCATION:Shade Valley Campground\, 20158 137th Place\, Sturgis\, SD\, 57785\, United States
END:VEVENT
BEGIN:VEVENT
DTSTART;TZID=America/Los_Angeles:20160730T200000
DTEND;TZID=America/Los_Angeles:20160731T020000
DTSTAMP:20260425T193800
CREATED:20160511T053648Z
LAST-MODIFIED:20160511T060000Z
UID:360-1469908800-1469930400@charleswiley.net
SUMMARY:Fantazzmo
DESCRIPTION:
URL:https://charleswiley.net/show/fantazzmo-14/
LOCATION:Samuel Brewskies\, 426 East 61st St N\, Park City\, KS\, 67219\, United States
END:VEVENT
BEGIN:VEVENT
DTSTART;TZID=America/Los_Angeles:20160729T203000
DTEND;TZID=America/Los_Angeles:20160730T000000
DTSTAMP:20260425T193800
CREATED:20160511T053648Z
LAST-MODIFIED:20160511T060858Z
UID:359-1469824200-1469836800@charleswiley.net
SUMMARY:Fantazzmo
DESCRIPTION:
URL:https://charleswiley.net/show/fantazzmo-13/
LOCATION:The Candle Club\, 6135 E 13th St N\, Wichita\, KS\, 67208\, United States
END:VEVENT
BEGIN:VEVENT
DTSTART;TZID=America/Los_Angeles:20160728T200000
DTEND;TZID=America/Los_Angeles:20160729T020000
DTSTAMP:20260425T193800
CREATED:20160511T053648Z
LAST-MODIFIED:20160511T055823Z
UID:358-1469736000-1469757600@charleswiley.net
SUMMARY:Fantazzmo
DESCRIPTION:
URL:https://charleswiley.net/show/fantazzmo-12/
LOCATION:One Eyed Jack’s Saloon\, 1304 Main St\, Sturgis\, SD\, 57785\, United States
END:VEVENT
BEGIN:VEVENT
DTSTART;TZID=America/Los_Angeles:20160727T200000
DTEND;TZID=America/Los_Angeles:20160728T020000
DTSTAMP:20260425T193800
CREATED:20160511T053648Z
LAST-MODIFIED:20160511T055738Z
UID:357-1469649600-1469671200@charleswiley.net
SUMMARY:Fantazzmo
DESCRIPTION:
URL:https://charleswiley.net/show/fantazzmo-11/
LOCATION:One Eyed Jack’s Saloon\, 1304 Main St\, Sturgis\, SD\, 57785\, United States
END:VEVENT
BEGIN:VEVENT
DTSTART;TZID=America/Los_Angeles:20160726T200000
DTEND;TZID=America/Los_Angeles:20160727T020000
DTSTAMP:20260425T193800
CREATED:20160511T053648Z
LAST-MODIFIED:20160511T055640Z
UID:356-1469563200-1469584800@charleswiley.net
SUMMARY:Fantazzmo
DESCRIPTION:
URL:https://charleswiley.net/show/fantazzmo-10/
LOCATION:One Eyed Jack’s Saloon\, 1304 Main St\, Sturgis\, SD\, 57785\, United States
END:VEVENT
BEGIN:VEVENT
DTSTART;TZID=America/Los_Angeles:20160725T200000
DTEND;TZID=America/Los_Angeles:20160726T020000
DTSTAMP:20260425T193800
CREATED:20160511T053648Z
LAST-MODIFIED:20160511T055419Z
UID:355-1469476800-1469498400@charleswiley.net
SUMMARY:Fantazzmo
DESCRIPTION:
URL:https://charleswiley.net/show/fantazzmo-9/
LOCATION:One Eyed Jack’s Saloon\, 1304 Main St\, Sturgis\, SD\, 57785\, United States
END:VEVENT
BEGIN:VEVENT
DTSTART;TZID=America/Los_Angeles:20160724T200000
DTEND;TZID=America/Los_Angeles:20160725T020000
DTSTAMP:20260425T193800
CREATED:20160511T053648Z
LAST-MODIFIED:20160511T055334Z
UID:354-1469390400-1469412000@charleswiley.net
SUMMARY:Fantazzmo
DESCRIPTION:
URL:https://charleswiley.net/show/fantazzmo-8/
LOCATION:One Eyed Jack’s Saloon\, 1304 Main St\, Sturgis\, SD\, 57785\, United States
END:VEVENT
BEGIN:VEVENT
DTSTART;TZID=America/Los_Angeles:20160723T230000
DTEND;TZID=America/Los_Angeles:20160724T000000
DTSTAMP:20260425T193800
CREATED:20160511T053648Z
LAST-MODIFIED:20160511T055457Z
UID:353-1469314800-1469318400@charleswiley.net
SUMMARY:Fantazzmo
DESCRIPTION:
URL:https://charleswiley.net/show/fantazzmo-7/
LOCATION:O’Riley’s\, 8989 Forest Ln #120\, Dallas\, TX\, 75243\, United States
END:VEVENT
BEGIN:VEVENT
DTSTART;TZID=America/Los_Angeles:20160722T200000
DTEND;TZID=America/Los_Angeles:20160723T020000
DTSTAMP:20260425T193800
CREATED:20160511T053648Z
LAST-MODIFIED:20160511T055525Z
UID:352-1469217600-1469239200@charleswiley.net
SUMMARY:Fantazzmo
DESCRIPTION:
URL:https://charleswiley.net/show/fantazzmo-6/
LOCATION:19th Hole\, 202 Sawdust Rd #118\, Spring\, TX\, 77380\, United States
END:VEVENT
BEGIN:VEVENT
DTSTART;TZID=America/Los_Angeles:20160721T233000
DTEND;TZID=America/Los_Angeles:20160722T001500
DTSTAMP:20260425T193800
CREATED:20160511T053648Z
LAST-MODIFIED:20160511T054535Z
UID:351-1469143800-1469146500@charleswiley.net
SUMMARY:Fantazzmo
DESCRIPTION:
URL:https://charleswiley.net/show/fantazzmo-5/
LOCATION:Acadia Bar and Grill\, 3939 Cypress Creek Pkwy\, Houston\, TX\, 77014\, United States
END:VEVENT
BEGIN:VEVENT
DTSTART;TZID=America/Los_Angeles:20160716T190000
DTEND;TZID=America/Los_Angeles:20160716T200000
DTSTAMP:20260425T193800
CREATED:20160615T054029Z
LAST-MODIFIED:20160810T034944Z
UID:385-1468695600-1468699200@charleswiley.net
SUMMARY:Fantazzmo
DESCRIPTION: 
URL:https://charleswiley.net/show/fantazzmo-25/
LOCATION:Alice Cooperstown\, 101 E Jackson St\, Phoenix\, AZ\, 85004\, United States
END:VEVENT
BEGIN:VEVENT
DTSTART;TZID=America/Los_Angeles:20160715T210000
DTEND;TZID=America/Los_Angeles:20160715T230000
DTSTAMP:20260425T193800
CREATED:20160810T034801Z
LAST-MODIFIED:20160810T034801Z
UID:402-1468616400-1468623600@charleswiley.net
SUMMARY:Fantazzmo
DESCRIPTION:
URL:https://charleswiley.net/show/fantazzmo-27/
LOCATION:Hotrods Old Vail\, 10500 E Old Vail Rd\, Tucson\, AZ\, 85747\, United States
END:VEVENT
BEGIN:VEVENT
DTSTART;TZID=America/Los_Angeles:20160618T200000
DTEND;TZID=America/Los_Angeles:20160618T210000
DTSTAMP:20260425T193800
CREATED:20160615T053944Z
LAST-MODIFIED:20160615T053944Z
UID:384-1466280000-1466283600@charleswiley.net
SUMMARY:Chase Bell
DESCRIPTION:
URL:https://charleswiley.net/show/chase-bell/
LOCATION:Hotel Cafe\, 1623 N Cahuenga Blvd\, Los Angeles\, CA\, 90028\, United States
END:VEVENT
BEGIN:VEVENT
DTSTART;TZID=America/Los_Angeles:20160617T210000
DTEND;TZID=America/Los_Angeles:20160618T010000
DTSTAMP:20260425T193800
CREATED:20160511T062646Z
LAST-MODIFIED:20160511T062646Z
UID:380-1466197200-1466211600@charleswiley.net
SUMMARY:Paradium
DESCRIPTION:
URL:https://charleswiley.net/show/paradium-5/
LOCATION:Basement Tavern\, 2640 Main St\, Santa Monica\, CA\, 90405\, United States
END:VEVENT
BEGIN:VEVENT
DTSTART;TZID=America/Los_Angeles:20160611T200000
DTEND;TZID=America/Los_Angeles:20160611T220000
DTSTAMP:20260425T193800
CREATED:20160511T062511Z
LAST-MODIFIED:20160511T062511Z
UID:378-1465675200-1465682400@charleswiley.net
SUMMARY:Skinny Little Twits
DESCRIPTION:
URL:https://charleswiley.net/show/skinny-little-twits-2/
LOCATION:Palos Verdes Street Fair\, Palos Verdes\, CA\, United States
END:VEVENT
BEGIN:VEVENT
DTSTART;TZID=America/Los_Angeles:20160604T220000
DTEND;TZID=America/Los_Angeles:20160604T230000
DTSTAMP:20260425T193800
CREATED:20160615T055036Z
LAST-MODIFIED:20160615T055036Z
UID:388-1465077600-1465081200@charleswiley.net
SUMMARY:Stang
DESCRIPTION: 
URL:https://charleswiley.net/show/stang/
LOCATION:Five Star Bar\,  267 S Main St\, Los Angeles\, CA\, 90012\, United States
END:VEVENT
BEGIN:VEVENT
DTSTART;TZID=America/Los_Angeles:20160522T140000
DTEND;TZID=America/Los_Angeles:20160522T150000
DTSTAMP:20260425T193800
CREATED:20160429T044500Z
LAST-MODIFIED:20160429T044500Z
UID:341-1463925600-1463929200@charleswiley.net
SUMMARY:Sonia Harley
DESCRIPTION:
URL:https://charleswiley.net/show/sonia-harley/
LOCATION:Los Encinos State Historic Park\, 16756 Moorpark St\, Encino\, CA\, 91436\, United States
END:VEVENT
BEGIN:VEVENT
DTSTART;TZID=America/Los_Angeles:20160510T200000
DTEND;TZID=America/Los_Angeles:20160510T210000
DTSTAMP:20260425T193800
CREATED:20160429T044756Z
LAST-MODIFIED:20160429T044756Z
UID:343-1462910400-1462914000@charleswiley.net
SUMMARY:Kris Angelis
DESCRIPTION:
URL:https://charleswiley.net/show/kris-angelis-2/
LOCATION:Bar Lubitsch\, 7702 Santa Monica Blvd\, West Hollywood\, CA\, 90046\, United States
END:VEVENT
BEGIN:VEVENT
DTSTART;TZID=America/Los_Angeles:20160507T210000
DTEND;TZID=America/Los_Angeles:20160508T010000
DTSTAMP:20260425T193800
CREATED:20160429T044039Z
LAST-MODIFIED:20160429T044039Z
UID:340-1462654800-1462669200@charleswiley.net
SUMMARY:Paradium
DESCRIPTION:
URL:https://charleswiley.net/show/paradium-4/
LOCATION:Basement Tavern\, 2640 Main St\, Santa Monica\, CA\, 90405\, United States
END:VEVENT
BEGIN:VEVENT
DTSTART;VALUE=DATE:20160430
DTEND;VALUE=DATE:20160501
DTSTAMP:20260425T193800
CREATED:20160429T043839Z
LAST-MODIFIED:20160429T043839Z
UID:339-1461974400-1462060799@charleswiley.net
SUMMARY:Skinny Little Twits
DESCRIPTION:
URL:https://charleswiley.net/show/skinny-little-twits/
LOCATION:Private Event-Los Angeles\, Los Angeles\, CA\, United States
END:VEVENT
END:VCALENDAR