BEGIN:VCALENDAR
VERSION:2.0
PRODID:-//charleswiley.net - ECPv6.15.13//NONSGML v1.0//EN
CALSCALE:GREGORIAN
METHOD:PUBLISH
X-ORIGINAL-URL:https://charleswiley.net
X-WR-CALDESC:Events for charleswiley.net
REFRESH-INTERVAL;VALUE=DURATION:PT1H
X-Robots-Tag:noindex
X-PUBLISHED-TTL:PT1H
BEGIN:VTIMEZONE
TZID:America/Los_Angeles
BEGIN:DAYLIGHT
TZOFFSETFROM:-0800
TZOFFSETTO:-0700
TZNAME:PDT
DTSTART:20150308T100000
END:DAYLIGHT
BEGIN:STANDARD
TZOFFSETFROM:-0700
TZOFFSETTO:-0800
TZNAME:PST
DTSTART:20151101T090000
END:STANDARD
BEGIN:DAYLIGHT
TZOFFSETFROM:-0800
TZOFFSETTO:-0700
TZNAME:PDT
DTSTART:20160313T100000
END:DAYLIGHT
BEGIN:STANDARD
TZOFFSETFROM:-0700
TZOFFSETTO:-0800
TZNAME:PST
DTSTART:20161106T090000
END:STANDARD
BEGIN:DAYLIGHT
TZOFFSETFROM:-0800
TZOFFSETTO:-0700
TZNAME:PDT
DTSTART:20170312T100000
END:DAYLIGHT
BEGIN:STANDARD
TZOFFSETFROM:-0700
TZOFFSETTO:-0800
TZNAME:PST
DTSTART:20171105T090000
END:STANDARD
BEGIN:DAYLIGHT
TZOFFSETFROM:-0800
TZOFFSETTO:-0700
TZNAME:PDT
DTSTART:20180311T100000
END:DAYLIGHT
BEGIN:STANDARD
TZOFFSETFROM:-0700
TZOFFSETTO:-0800
TZNAME:PST
DTSTART:20181104T090000
END:STANDARD
END:VTIMEZONE
BEGIN:VTIMEZONE
TZID:Asia/Dubai
BEGIN:STANDARD
TZOFFSETFROM:+0400
TZOFFSETTO:+0400
TZNAME:+04
DTSTART:20150101T000000
END:STANDARD
END:VTIMEZONE
BEGIN:VEVENT
DTSTART;TZID=America/Los_Angeles:20170401T210000
DTEND;TZID=America/Los_Angeles:20170401T235900
DTSTAMP:20260425T125318
CREATED:20170321T041501Z
LAST-MODIFIED:20170321T041501Z
UID:689-1491080400-1491091140@charleswiley.net
SUMMARY:Mix 3
DESCRIPTION:
URL:https://charleswiley.net/show/mix-3-10/
LOCATION:Kings Row Gastropub\, 20 E Colorado Blvd\, Pasadena\, CA\, 91103\, United States
END:VEVENT
BEGIN:VEVENT
DTSTART;TZID=America/Los_Angeles:20170331T210000
DTEND;TZID=America/Los_Angeles:20170331T235500
DTSTAMP:20260425T125318
CREATED:20170317T041633Z
LAST-MODIFIED:20170317T041633Z
UID:678-1490994000-1491004500@charleswiley.net
SUMMARY:Paradium
DESCRIPTION:
URL:https://charleswiley.net/show/paradium-20/
LOCATION:O’Malley’s on Main\, 140 Main St\, Seal Beach\, CA\, 90740\, United States
END:VEVENT
BEGIN:VEVENT
DTSTART;TZID=America/Los_Angeles:20170330T210000
DTEND;TZID=America/Los_Angeles:20170331T010000
DTSTAMP:20260425T125318
CREATED:20170331T020941Z
LAST-MODIFIED:20170331T020941Z
UID:720-1490907600-1490922000@charleswiley.net
SUMMARY:Mix 3
DESCRIPTION:
URL:https://charleswiley.net/show/mix-3-11/
LOCATION:Basement Tavern\, 2640 Main St\, Santa Monica\, CA\, 90405\, United States
END:VEVENT
BEGIN:VEVENT
DTSTART;TZID=America/Los_Angeles:20170324T210000
DTEND;TZID=America/Los_Angeles:20170324T235500
DTSTAMP:20260425T125318
CREATED:20170317T041507Z
LAST-MODIFIED:20170317T041507Z
UID:676-1490389200-1490399700@charleswiley.net
SUMMARY:Paradium
DESCRIPTION:
URL:https://charleswiley.net/show/paradium-19/
LOCATION:Auld Dubliner\, 71 South Pine Ave\, Long Beach\, CA\, 90802\, United States
END:VEVENT
BEGIN:VEVENT
DTSTART;TZID=America/Los_Angeles:20170318T210000
DTEND;TZID=America/Los_Angeles:20170318T235500
DTSTAMP:20260425T125318
CREATED:20170106T232943Z
LAST-MODIFIED:20170106T232943Z
UID:588-1489870800-1489881300@charleswiley.net
SUMMARY:Mix 3
DESCRIPTION:
URL:https://charleswiley.net/show/mix-3-6/
LOCATION:Ric’s Restaurant & Sports Lounge\, Camarillo Village Square\, 2500 Las Posas Rd\, Camarillo\, CA\, 93010\, United States
END:VEVENT
BEGIN:VEVENT
DTSTART;TZID=America/Los_Angeles:20170317T150000
DTEND;TZID=America/Los_Angeles:20170317T180000
DTSTAMP:20260425T125318
CREATED:20170317T041331Z
LAST-MODIFIED:20170317T041331Z
UID:674-1489762800-1489773600@charleswiley.net
SUMMARY:Mix 3
DESCRIPTION:
URL:https://charleswiley.net/show/mix-3-9/
LOCATION:Malibu Winery\, 31740 Mulholland Hwy\, Malibu\, CA\, 90265\, United States
END:VEVENT
BEGIN:VEVENT
DTSTART;TZID=America/Los_Angeles:20170314T180000
DTEND;TZID=America/Los_Angeles:20170314T220000
DTSTAMP:20260425T125318
CREATED:20170321T042517Z
LAST-MODIFIED:20170321T042517Z
UID:698-1489514400-1489528800@charleswiley.net
SUMMARY:Piano Duo
DESCRIPTION:
URL:https://charleswiley.net/show/piano-duo/
LOCATION:Miceli’s\, 3655 Cahuenga Blvd\, Los Angeles\, CA\, 90068\, United States
END:VEVENT
BEGIN:VEVENT
DTSTART;TZID=America/Los_Angeles:20170310T230000
DTEND;TZID=America/Los_Angeles:20170310T235900
DTSTAMP:20260425T125318
CREATED:20170303T223028Z
LAST-MODIFIED:20170303T223028Z
UID:663-1489186800-1489190340@charleswiley.net
SUMMARY:Drew Southern
DESCRIPTION:
URL:https://charleswiley.net/show/drew-southern/
LOCATION:Hotel Cafe\, 1623 N Cahuenga Blvd\, Los Angeles\, CA\, 90028\, United States
END:VEVENT
BEGIN:VEVENT
DTSTART;TZID=America/Los_Angeles:20170304T210000
DTEND;TZID=America/Los_Angeles:20170305T010000
DTSTAMP:20260425T125318
CREATED:20170303T184230Z
LAST-MODIFIED:20170303T184230Z
UID:655-1488661200-1488675600@charleswiley.net
SUMMARY:Mix 4
DESCRIPTION:
URL:https://charleswiley.net/show/mix-4-3/
LOCATION:Basement Tavern\, 2640 Main St\, Santa Monica\, CA\, 90405\, United States
END:VEVENT
BEGIN:VEVENT
DTSTART;TZID=America/Los_Angeles:20170225T210000
DTEND;TZID=America/Los_Angeles:20170225T235500
DTSTAMP:20260425T125318
CREATED:20170106T232640Z
LAST-MODIFIED:20170106T232640Z
UID:585-1488056400-1488066900@charleswiley.net
SUMMARY:Fantazzmo
DESCRIPTION:
URL:https://charleswiley.net/show/fantazzmo-35/
LOCATION:Sierra Saloon\, 17730 Sierra Hwy\, Canyon Country\, CA\, 91351\, United States
END:VEVENT
BEGIN:VEVENT
DTSTART;TZID=America/Los_Angeles:20170224T210000
DTEND;TZID=America/Los_Angeles:20170224T235500
DTSTAMP:20260425T125318
CREATED:20170131T182555Z
LAST-MODIFIED:20170131T182555Z
UID:626-1487970000-1487980500@charleswiley.net
SUMMARY:Paradium
DESCRIPTION:
URL:https://charleswiley.net/show/paradium-18/
LOCATION:Auld Dubliner\, 71 South Pine Ave\, Long Beach\, CA\, 90802\, United States
END:VEVENT
BEGIN:VEVENT
DTSTART;TZID=America/Los_Angeles:20170223T210000
DTEND;TZID=America/Los_Angeles:20170223T235500
DTSTAMP:20260425T125318
CREATED:20170131T182254Z
LAST-MODIFIED:20170131T182254Z
UID:624-1487883600-1487894100@charleswiley.net
SUMMARY:Mix 3
DESCRIPTION:
URL:https://charleswiley.net/show/mix-3-7/
LOCATION:Basement Tavern\, 2640 Main St\, Santa Monica\, CA\, 90405\, United States
END:VEVENT
BEGIN:VEVENT
DTSTART;TZID=America/Los_Angeles:20170211T210000
DTEND;TZID=America/Los_Angeles:20170212T010000
DTSTAMP:20260425T125318
CREATED:20170211T205345Z
LAST-MODIFIED:20170211T205345Z
UID:632-1486846800-1486861200@charleswiley.net
SUMMARY:Mix 4
DESCRIPTION:
URL:https://charleswiley.net/show/mix-4-2/
LOCATION:Basement Tavern\, 2640 Main St\, Santa Monica\, CA\, 90405\, United States
END:VEVENT
BEGIN:VEVENT
DTSTART;TZID=America/Los_Angeles:20170201T210000
DTEND;TZID=America/Los_Angeles:20170201T220000
DTSTAMP:20260425T125318
CREATED:20170131T182120Z
LAST-MODIFIED:20170131T182151Z
UID:621-1485982800-1485986400@charleswiley.net
SUMMARY:Mind Meld
DESCRIPTION:
URL:https://charleswiley.net/show/mind-meld/
LOCATION:Paladino’s\, 6101 Reseda Blvd\, Tarzana\, CA\, 91335\, United States
END:VEVENT
BEGIN:VEVENT
DTSTART;TZID=America/Los_Angeles:20170126T210000
DTEND;TZID=America/Los_Angeles:20170127T010000
DTSTAMP:20260425T125318
CREATED:20170106T232057Z
LAST-MODIFIED:20170111T072012Z
UID:583-1485464400-1485478800@charleswiley.net
SUMMARY:Mix 4
DESCRIPTION:
URL:https://charleswiley.net/show/mix-4/
LOCATION:Basement Tavern\, 2640 Main St\, Santa Monica\, CA\, 90405\, United States
END:VEVENT
BEGIN:VEVENT
DTSTART;TZID=America/Los_Angeles:20170122T140000
DTEND;TZID=America/Los_Angeles:20170122T150000
DTSTAMP:20260425T125318
CREATED:20170106T232010Z
LAST-MODIFIED:20170106T232010Z
UID:580-1485093600-1485097200@charleswiley.net
SUMMARY:Sonia Harley
DESCRIPTION:  \nCharles plays with Sonia Harley shooting the video for “Pocket full of nails” \n 
URL:https://charleswiley.net/show/sonia-harley-2/
LOCATION:Doll Hut\, 107 S Adams St\, Anaheim\, CA\, 92802\, United States
END:VEVENT
BEGIN:VEVENT
DTSTART;VALUE=DATE:20170119
DTEND;VALUE=DATE:20170123
DTSTAMP:20260425T125318
CREATED:20161202T073938Z
LAST-MODIFIED:20161202T073938Z
UID:533-1484784000-1485129599@charleswiley.net
SUMMARY:NAMM Show-Soultone Cymbal Booth
DESCRIPTION:
URL:https://charleswiley.net/show/namm-show-soultone-cymbal-booth/
LOCATION:Anaheim Convention Center\, 800 W Katella Ave\, Anaheim\, CA\, 92802\, United States
END:VEVENT
BEGIN:VEVENT
DTSTART;TZID=America/Los_Angeles:20170114T210000
DTEND;TZID=America/Los_Angeles:20170115T010000
DTSTAMP:20260425T125318
CREATED:20170106T231608Z
LAST-MODIFIED:20170106T231608Z
UID:578-1484427600-1484442000@charleswiley.net
SUMMARY:Mix 3
DESCRIPTION:
URL:https://charleswiley.net/show/mix-3-5/
LOCATION:Basement Tavern\, 2640 Main St\, Santa Monica\, CA\, 90405\, United States
END:VEVENT
BEGIN:VEVENT
DTSTART;TZID=America/Los_Angeles:20170113T210000
DTEND;TZID=America/Los_Angeles:20170113T235500
DTSTAMP:20260425T125318
CREATED:20161211T062846Z
LAST-MODIFIED:20170317T043401Z
UID:545-1484341200-1484351700@charleswiley.net
SUMMARY:DJ Ison and Triple Threat
DESCRIPTION:
URL:https://charleswiley.net/show/dj-ison-and-triple-threat-2/
LOCATION:PVB\, 24600 Crenshaw Blvd\, Torrance\, CA\, 90505\, United States
END:VEVENT
BEGIN:VEVENT
DTSTART;TZID=America/Los_Angeles:20170112T210000
DTEND;TZID=America/Los_Angeles:20170113T010000
DTSTAMP:20260425T125318
CREATED:20170106T231510Z
LAST-MODIFIED:20170106T231510Z
UID:576-1484254800-1484269200@charleswiley.net
SUMMARY:Paradium
DESCRIPTION:
URL:https://charleswiley.net/show/paradium-17/
LOCATION:Basement Tavern\, 2640 Main St\, Santa Monica\, CA\, 90405\, United States
END:VEVENT
BEGIN:VEVENT
DTSTART;VALUE=DATE:20161231
DTEND;VALUE=DATE:20170101
DTSTAMP:20260425T125318
CREATED:20161202T073504Z
LAST-MODIFIED:20161202T073504Z
UID:530-1483142400-1483228799@charleswiley.net
SUMMARY:Silk Trio
DESCRIPTION:New Year’s Eve show
URL:https://charleswiley.net/show/silk-trio/
LOCATION:Al Baleed Resort\, Al Mansurah Street\, Al Baleed\, Salalah\, PC 214\,  Salalah 360\, Oman
END:VEVENT
BEGIN:VEVENT
DTSTART;TZID=America/Los_Angeles:20161222T220000
DTEND;TZID=America/Los_Angeles:20161223T010000
DTSTAMP:20260425T125318
CREATED:20161123T171021Z
LAST-MODIFIED:20161213T170543Z
UID:523-1482444000-1482454800@charleswiley.net
SUMMARY:Paradium
DESCRIPTION:
URL:https://charleswiley.net/show/paradium-16/
LOCATION:Basement Tavern\, 2640 Main St\, Santa Monica\, CA\, 90405\, United States
END:VEVENT
BEGIN:VEVENT
DTSTART;TZID=America/Los_Angeles:20161209T210000
DTEND;TZID=America/Los_Angeles:20161210T000000
DTSTAMP:20260425T125318
CREATED:20161123T170924Z
LAST-MODIFIED:20161123T170924Z
UID:520-1481317200-1481328000@charleswiley.net
SUMMARY:Paradium
DESCRIPTION:
URL:https://charleswiley.net/show/paradium-15/
LOCATION:O’Malley’s on Main\, 140 Main St\, Seal Beach\, CA\, 90740\, United States
END:VEVENT
BEGIN:VEVENT
DTSTART;TZID=America/Los_Angeles:20161203T170000
DTEND;TZID=America/Los_Angeles:20161203T190000
DTSTAMP:20260425T125318
CREATED:20161113T065012Z
LAST-MODIFIED:20161121T043413Z
UID:488-1480784400-1480791600@charleswiley.net
SUMMARY:Paradium
DESCRIPTION:
URL:https://charleswiley.net/show/paradium-14/
LOCATION:Ventura Winter Wine Walk\, Downtown Ventura\, Ventura\, CA\, 93001\, United States
END:VEVENT
BEGIN:VEVENT
DTSTART;TZID=America/Los_Angeles:20161202T210000
DTEND;TZID=America/Los_Angeles:20161203T010000
DTSTAMP:20260425T125318
CREATED:20161113T064617Z
LAST-MODIFIED:20170317T043408Z
UID:484-1480712400-1480726800@charleswiley.net
SUMMARY:DJ Ison and Triple Threat
DESCRIPTION:
URL:https://charleswiley.net/show/dj-ison-and-triple-threat/
LOCATION:PVB\, 24600 Crenshaw Blvd\, Torrance\, CA\, 90505\, United States
END:VEVENT
BEGIN:VEVENT
DTSTART;TZID=America/Los_Angeles:20161201T220000
DTEND;TZID=America/Los_Angeles:20161202T010000
DTSTAMP:20260425T125318
CREATED:20161123T170649Z
LAST-MODIFIED:20161123T170649Z
UID:518-1480629600-1480640400@charleswiley.net
SUMMARY:Mix 3
DESCRIPTION:
URL:https://charleswiley.net/show/mix-3-4/
LOCATION:Basement Tavern\, 2640 Main St\, Santa Monica\, CA\, 90405\, United States
END:VEVENT
BEGIN:VEVENT
DTSTART;TZID=America/Los_Angeles:20161105T220000
DTEND;TZID=America/Los_Angeles:20161106T010000
DTSTAMP:20260425T125318
CREATED:20161026T193415Z
LAST-MODIFIED:20161028T034134Z
UID:468-1478383200-1478394000@charleswiley.net
SUMMARY:Mix 3
DESCRIPTION:
URL:https://charleswiley.net/show/mix-3-3/
LOCATION:Basement Tavern\, 2640 Main St\, Santa Monica\, CA\, 90405\, United States
END:VEVENT
BEGIN:VEVENT
DTSTART;VALUE=DATE:20161104
DTEND;VALUE=DATE:20161105
DTSTAMP:20260425T125318
CREATED:20161028T035420Z
LAST-MODIFIED:20161028T035420Z
UID:470-1478217600-1478303999@charleswiley.net
SUMMARY:Skinny Little Twits
DESCRIPTION:
URL:https://charleswiley.net/show/skinny-little-twits-3/
LOCATION:Private Event – Valencia\, Valencia\, CA\, United States
END:VEVENT
BEGIN:VEVENT
DTSTART;TZID=America/Los_Angeles:20161030T120000
DTEND;TZID=America/Los_Angeles:20161030T130000
DTSTAMP:20260425T125318
CREATED:20161026T193228Z
LAST-MODIFIED:20161026T193228Z
UID:464-1477828800-1477832400@charleswiley.net
SUMMARY:Fantazzmo
DESCRIPTION:
URL:https://charleswiley.net/show/fantazzmo-34/
LOCATION:Noisy Cavern Music Sessions\, Anaheim\, CA\, United States
END:VEVENT
BEGIN:VEVENT
DTSTART;TZID=America/Los_Angeles:20161029T180000
DTEND;TZID=America/Los_Angeles:20161029T220000
DTSTAMP:20260425T125318
CREATED:20161026T192850Z
LAST-MODIFIED:20161026T192850Z
UID:460-1477764000-1477778400@charleswiley.net
SUMMARY:Trio
DESCRIPTION:
URL:https://charleswiley.net/show/trio/
LOCATION:Chuy’s\, 311 Carmen Dr.\, Camarillo\, CA\, 93010\, United States
END:VEVENT
END:VCALENDAR