BEGIN:VCALENDAR
VERSION:2.0
PRODID:-//charleswiley.net - ECPv6.15.13//NONSGML v1.0//EN
CALSCALE:GREGORIAN
METHOD:PUBLISH
X-ORIGINAL-URL:https://charleswiley.net
X-WR-CALDESC:Events for charleswiley.net
REFRESH-INTERVAL;VALUE=DURATION:PT1H
X-Robots-Tag:noindex
X-PUBLISHED-TTL:PT1H
BEGIN:VTIMEZONE
TZID:America/Los_Angeles
BEGIN:DAYLIGHT
TZOFFSETFROM:-0800
TZOFFSETTO:-0700
TZNAME:PDT
DTSTART:20210314T100000
END:DAYLIGHT
BEGIN:STANDARD
TZOFFSETFROM:-0700
TZOFFSETTO:-0800
TZNAME:PST
DTSTART:20211107T090000
END:STANDARD
BEGIN:DAYLIGHT
TZOFFSETFROM:-0800
TZOFFSETTO:-0700
TZNAME:PDT
DTSTART:20220313T100000
END:DAYLIGHT
BEGIN:STANDARD
TZOFFSETFROM:-0700
TZOFFSETTO:-0800
TZNAME:PST
DTSTART:20221106T090000
END:STANDARD
BEGIN:DAYLIGHT
TZOFFSETFROM:-0800
TZOFFSETTO:-0700
TZNAME:PDT
DTSTART:20230312T100000
END:DAYLIGHT
BEGIN:STANDARD
TZOFFSETFROM:-0700
TZOFFSETTO:-0800
TZNAME:PST
DTSTART:20231105T090000
END:STANDARD
BEGIN:DAYLIGHT
TZOFFSETFROM:-0800
TZOFFSETTO:-0700
TZNAME:PDT
DTSTART:20240310T100000
END:DAYLIGHT
BEGIN:STANDARD
TZOFFSETFROM:-0700
TZOFFSETTO:-0800
TZNAME:PST
DTSTART:20241103T090000
END:STANDARD
END:VTIMEZONE
BEGIN:VEVENT
DTSTART;TZID=America/Los_Angeles:20230703T190000
DTEND;TZID=America/Los_Angeles:20230703T210000
DTSTAMP:20260423T235757
CREATED:20230515T001628Z
LAST-MODIFIED:20230515T002437Z
UID:17439-1688410800-1688418000@charleswiley.net
SUMMARY:Electric Vinyl
DESCRIPTION:
URL:https://charleswiley.net/show/electric-vinyl-15/
LOCATION:Arroyo Vista Community Park\, 4550 Tierra Rejada Rd\, Moorpark\, CA\, 93021\, United States
ATTACH;FMTTYPE=image/webp:https://charleswiley.net/wp-content/uploads/2023/05/9bff18_921c4003c66a45499bc0a49d211f5678mv2.webp
END:VEVENT
BEGIN:VEVENT
DTSTART;VALUE=DATE:20230325
DTEND;VALUE=DATE:20230514
DTSTAMP:20260423T235757
CREATED:20230205T193403Z
LAST-MODIFIED:20230426T034253Z
UID:17283-1679702400-1684022399@charleswiley.net
SUMMARY:Black Flag
DESCRIPTION:“My War” Tour – see the Black Flag website for show dates and tickets!
URL:https://charleswiley.net/show/black-flag-8/
ATTACH;FMTTYPE=image/png:https://charleswiley.net/wp-content/uploads/2023/02/BF_My-War2023.png
END:VEVENT
BEGIN:VEVENT
DTSTART;VALUE=DATE:20230319
DTEND;VALUE=DATE:20230320
DTSTAMP:20260423T235757
CREATED:20221124T033720Z
LAST-MODIFIED:20221124T033840Z
UID:16900-1679184000-1679270399@charleswiley.net
SUMMARY:Black Flag
DESCRIPTION:Jakarta Indonesia
URL:https://charleswiley.net/show/black-flag-6/
ATTACH;FMTTYPE=image/webp:https://charleswiley.net/wp-content/uploads/2022/11/BlackFlagHammersonic2023-861w.webp
END:VEVENT
BEGIN:VEVENT
DTSTART;VALUE=DATE:20230205
DTEND;VALUE=DATE:20230206
DTSTAMP:20260423T235757
CREATED:20230205T192936Z
LAST-MODIFIED:20230205T192936Z
UID:17281-1675555200-1675641599@charleswiley.net
SUMMARY:Black Flag
DESCRIPTION:Porto\, Portugal
URL:https://charleswiley.net/show/black-flag-7/
END:VEVENT
BEGIN:VEVENT
DTSTART;VALUE=DATE:20230202
DTEND;VALUE=DATE:20230205
DTSTAMP:20260423T235757
CREATED:20221124T033614Z
LAST-MODIFIED:20221124T033614Z
UID:16897-1675296000-1675555199@charleswiley.net
SUMMARY:Black Flag
DESCRIPTION:Spain
URL:https://charleswiley.net/show/black-flag-5/
ATTACH;FMTTYPE=image/webp:https://charleswiley.net/wp-content/uploads/2022/11/BlackFlagSpain-861w.webp
END:VEVENT
BEGIN:VEVENT
DTSTART;VALUE=DATE:20230124
DTEND;VALUE=DATE:20230129
DTSTAMP:20260423T235757
CREATED:20221124T033505Z
LAST-MODIFIED:20221124T033505Z
UID:16894-1674518400-1674950399@charleswiley.net
SUMMARY:Black Flag
DESCRIPTION:UK
URL:https://charleswiley.net/show/black-flag-4/
ATTACH;FMTTYPE=image/webp:https://charleswiley.net/wp-content/uploads/2022/11/England-BF.webp
END:VEVENT
BEGIN:VEVENT
DTSTART;VALUE=DATE:20230120
DTEND;VALUE=DATE:20230122
DTSTAMP:20260423T235757
CREATED:20221124T033137Z
LAST-MODIFIED:20221124T033137Z
UID:16891-1674172800-1674345599@charleswiley.net
SUMMARY:Black Flag
DESCRIPTION:Ireland
URL:https://charleswiley.net/show/black-flag-3/
ATTACH;FMTTYPE=image/webp:https://charleswiley.net/wp-content/uploads/2022/11/Ireland-BF.webp
END:VEVENT
BEGIN:VEVENT
DTSTART;VALUE=DATE:20221203
DTEND;VALUE=DATE:20221204
DTSTAMP:20260423T235757
CREATED:20221124T032752Z
LAST-MODIFIED:20221124T032752Z
UID:16888-1670025600-1670111999@charleswiley.net
SUMMARY:Black Flag
DESCRIPTION:Hell & Heaven Metal Fest
URL:https://charleswiley.net/show/black-flag-2/
ATTACH;FMTTYPE=image/png:https://charleswiley.net/wp-content/uploads/2022/11/HH-Logo.png
END:VEVENT
BEGIN:VEVENT
DTSTART;VALUE=DATE:20221028
DTEND;VALUE=DATE:20221122
DTSTAMP:20260423T235757
CREATED:20221113T200321Z
LAST-MODIFIED:20221124T032924Z
UID:16784-1666915200-1669075199@charleswiley.net
SUMMARY:Black Flag
DESCRIPTION:So-Cal Punk Invasion Tour
URL:https://charleswiley.net/show/black-flag/
ATTACH;FMTTYPE=image/webp:https://charleswiley.net/wp-content/uploads/2022/11/black-flag-poster-tsol-first-861w.webp
END:VEVENT
BEGIN:VEVENT
DTSTART;TZID=America/Los_Angeles:20220910T190000
DTEND;TZID=America/Los_Angeles:20220910T210000
DTSTAMP:20260423T235757
CREATED:20220618T004913Z
LAST-MODIFIED:20220618T004913Z
UID:15617-1662836400-1662843600@charleswiley.net
SUMMARY:Electric Vinyl
DESCRIPTION:
URL:https://charleswiley.net/show/electric-vinyl-14/
LOCATION:Private Event-Moorpark\, Moorpark\, CA\, United States
ATTACH;FMTTYPE=image/jpeg:https://charleswiley.net/wp-content/uploads/2022/04/Electric-Vinyl.jpg
END:VEVENT
BEGIN:VEVENT
DTSTART;TZID=America/Los_Angeles:20220825T200000
DTEND;TZID=America/Los_Angeles:20220825T220000
DTSTAMP:20260423T235757
CREATED:20220618T004449Z
LAST-MODIFIED:20220618T004449Z
UID:15614-1661457600-1661464800@charleswiley.net
SUMMARY:Kris Angelis
DESCRIPTION:Album Release Show
URL:https://charleswiley.net/show/kris-angelis-31/
LOCATION:Hotel Cafe\, 1623 N Cahuenga Blvd\, Los Angeles\, CA\, 90028\, United States
ATTACH;FMTTYPE=image/png:https://charleswiley.net/wp-content/uploads/2022/06/Kris-Angelis.png
END:VEVENT
BEGIN:VEVENT
DTSTART;VALUE=DATE:20220806
DTEND;VALUE=DATE:20220807
DTSTAMP:20260423T235757
CREATED:20220409T175734Z
LAST-MODIFIED:20220409T175734Z
UID:15124-1659744000-1659830399@charleswiley.net
SUMMARY:Electric Vinyl
DESCRIPTION:Monrovia\, CA
URL:https://charleswiley.net/show/electric-vinyl-13/
ATTACH;FMTTYPE=image/jpeg:https://charleswiley.net/wp-content/uploads/2022/04/Electric-Vinyl.jpg
END:VEVENT
BEGIN:VEVENT
DTSTART;TZID=America/Los_Angeles:20220729T210000
DTEND;TZID=America/Los_Angeles:20220729T220000
DTSTAMP:20260423T235757
CREATED:20220409T175624Z
LAST-MODIFIED:20220409T175624Z
UID:15121-1659128400-1659132000@charleswiley.net
SUMMARY:Darkhorse Rising
DESCRIPTION:
URL:https://charleswiley.net/show/darkhorse-rising-15/
LOCATION:Whisky a Go Go\, 8901 Sunset Blvd\, West Hollywood\, CA\, 90069\, United States
ATTACH;FMTTYPE=image/jpeg:https://charleswiley.net/wp-content/uploads/2019/11/DHR-flames.jpg
END:VEVENT
BEGIN:VEVENT
DTSTART;VALUE=DATE:20220728
DTEND;VALUE=DATE:20220729
DTSTAMP:20260423T235757
CREATED:20220409T175241Z
LAST-MODIFIED:20220409T175241Z
UID:15119-1658966400-1659052799@charleswiley.net
SUMMARY:Electric Vinyl
DESCRIPTION:Fountain Valley\, CA
URL:https://charleswiley.net/show/electric-vinyl-12/
ATTACH;FMTTYPE=image/jpeg:https://charleswiley.net/wp-content/uploads/2022/04/Electric-Vinyl.jpg
END:VEVENT
BEGIN:VEVENT
DTSTART;TZID=America/Los_Angeles:20220725T200000
DTEND;TZID=America/Los_Angeles:20220725T210000
DTSTAMP:20260423T235757
CREATED:20220703T145220Z
LAST-MODIFIED:20220703T145220Z
UID:15656-1658779200-1658782800@charleswiley.net
SUMMARY:Evening's Empire
DESCRIPTION:
URL:https://charleswiley.net/show/evenings-empire-7/
LOCATION:The Casbah\, 2501 Kettner Blvd\, San Diego\, CA\, 92101\, United States
ATTACH;FMTTYPE=image/png:https://charleswiley.net/wp-content/uploads/2022/04/Evenings-Empire.png
END:VEVENT
BEGIN:VEVENT
DTSTART;TZID=America/Los_Angeles:20220723T140000
DTEND;TZID=America/Los_Angeles:20220723T160000
DTSTAMP:20260423T235757
CREATED:20220703T145100Z
LAST-MODIFIED:20220703T145100Z
UID:15654-1658584800-1658592000@charleswiley.net
SUMMARY:Circa 62
DESCRIPTION:
URL:https://charleswiley.net/show/circa-62-19/
LOCATION:Redwood Bar & Grill\, 316 W 2nd St\, Los Angeles\, CA\, 90012\, United States
ATTACH;FMTTYPE=image/jpeg:https://charleswiley.net/wp-content/uploads/2019/01/Circa62-PalmSprings.jpg
END:VEVENT
BEGIN:VEVENT
DTSTART;VALUE=DATE:20220720
DTEND;VALUE=DATE:20220721
DTSTAMP:20260423T235757
CREATED:20220409T175136Z
LAST-MODIFIED:20220409T175136Z
UID:15117-1658275200-1658361599@charleswiley.net
SUMMARY:Electric Vinyl
DESCRIPTION:Diamond Bar\, CA
URL:https://charleswiley.net/show/electric-vinyl-11/
ATTACH;FMTTYPE=image/jpeg:https://charleswiley.net/wp-content/uploads/2022/04/Electric-Vinyl.jpg
END:VEVENT
BEGIN:VEVENT
DTSTART;VALUE=DATE:20220718
DTEND;VALUE=DATE:20220719
DTSTAMP:20260423T235757
CREATED:20220409T174854Z
LAST-MODIFIED:20220409T174854Z
UID:15115-1658102400-1658188799@charleswiley.net
SUMMARY:Electric Vinyl
DESCRIPTION:Whittier\, CA
URL:https://charleswiley.net/show/electric-vinyl-10/
ATTACH;FMTTYPE=image/jpeg:https://charleswiley.net/wp-content/uploads/2022/04/Electric-Vinyl.jpg
END:VEVENT
BEGIN:VEVENT
DTSTART;VALUE=DATE:20220713
DTEND;VALUE=DATE:20220714
DTSTAMP:20260423T235757
CREATED:20220409T174711Z
LAST-MODIFIED:20220409T174711Z
UID:15113-1657670400-1657756799@charleswiley.net
SUMMARY:Electric Vinyl
DESCRIPTION:West Covina\, CA
URL:https://charleswiley.net/show/electric-vinyl-9/
ATTACH;FMTTYPE=image/jpeg:https://charleswiley.net/wp-content/uploads/2022/04/Electric-Vinyl.jpg
END:VEVENT
BEGIN:VEVENT
DTSTART;VALUE=DATE:20220709
DTEND;VALUE=DATE:20220710
DTSTAMP:20260423T235757
CREATED:20220409T174526Z
LAST-MODIFIED:20220409T174526Z
UID:15111-1657324800-1657411199@charleswiley.net
SUMMARY:Electric Vinyl
DESCRIPTION:La Palma\, CA
URL:https://charleswiley.net/show/electric-vinyl-8/
ATTACH;FMTTYPE=image/jpeg:https://charleswiley.net/wp-content/uploads/2022/04/Electric-Vinyl.jpg
END:VEVENT
BEGIN:VEVENT
DTSTART;TZID=America/Los_Angeles:20220708T210000
DTEND;TZID=America/Los_Angeles:20220708T230000
DTSTAMP:20260423T235757
CREATED:20220618T002932Z
LAST-MODIFIED:20220618T002932Z
UID:15612-1657314000-1657321200@charleswiley.net
SUMMARY:Evening's Empire
DESCRIPTION:July 8 – Evenings Empire – Navajo Bar\, San Diego 9pm
URL:https://charleswiley.net/show/evenings-empire-6/
LOCATION:Navajo Live\, 8515 Navajo Rd\, San Diego\, CA\, 92119\, United States
ATTACH;FMTTYPE=image/png:https://charleswiley.net/wp-content/uploads/2022/04/Evenings-Empire.png
END:VEVENT
BEGIN:VEVENT
DTSTART;TZID=America/Los_Angeles:20220704T080000
DTEND;TZID=America/Los_Angeles:20220704T170000
DTSTAMP:20260423T235757
CREATED:20220409T174114Z
LAST-MODIFIED:20220409T174114Z
UID:15109-1656921600-1656954000@charleswiley.net
SUMMARY:Electric Vinyl
DESCRIPTION:Upland\, CA
URL:https://charleswiley.net/show/electric-vinyl-7/
ATTACH;FMTTYPE=image/jpeg:https://charleswiley.net/wp-content/uploads/2022/04/Electric-Vinyl.jpg
END:VEVENT
BEGIN:VEVENT
DTSTART;VALUE=DATE:20220702
DTEND;VALUE=DATE:20220703
DTSTAMP:20260423T235757
CREATED:20220409T174013Z
LAST-MODIFIED:20220409T174413Z
UID:15107-1656720000-1656806399@charleswiley.net
SUMMARY:Electric Vinyl
DESCRIPTION:Monterey Park\, CA
URL:https://charleswiley.net/show/electric-vinyl-6/
ATTACH;FMTTYPE=image/jpeg:https://charleswiley.net/wp-content/uploads/2022/04/Electric-Vinyl.jpg
END:VEVENT
BEGIN:VEVENT
DTSTART;VALUE=DATE:20220624
DTEND;VALUE=DATE:20220625
DTSTAMP:20260423T235757
CREATED:20220409T173833Z
LAST-MODIFIED:20220409T174344Z
UID:15105-1656028800-1656115199@charleswiley.net
SUMMARY:Electric Vinyl
DESCRIPTION:Laguna Niguel\, CA
URL:https://charleswiley.net/show/electric-vinyl-5/
ATTACH;FMTTYPE=image/jpeg:https://charleswiley.net/wp-content/uploads/2022/04/Electric-Vinyl.jpg
END:VEVENT
BEGIN:VEVENT
DTSTART;TZID=America/Los_Angeles:20220621T200000
DTEND;TZID=America/Los_Angeles:20220621T220000
DTSTAMP:20260423T235757
CREATED:20220618T002719Z
LAST-MODIFIED:20220618T003009Z
UID:15609-1655841600-1655848800@charleswiley.net
SUMMARY:Evening's Empire
DESCRIPTION:
URL:https://charleswiley.net/show/evenings-empire-5/
LOCATION:Soda Bar\, 3615 El Cajon Blvd\, San Diego\, CA\, 92104\, United States
ATTACH;FMTTYPE=image/png:https://charleswiley.net/wp-content/uploads/2022/04/Evenings-Empire.png
END:VEVENT
BEGIN:VEVENT
DTSTART;VALUE=DATE:20220514
DTEND;VALUE=DATE:20220515
DTSTAMP:20260423T235757
CREATED:20220409T173746Z
LAST-MODIFIED:20220409T174250Z
UID:15103-1652486400-1652572799@charleswiley.net
SUMMARY:Electric Vinyl
DESCRIPTION:Santa Clarita\, CA
URL:https://charleswiley.net/show/electric-vinyl-4/
ATTACH;FMTTYPE=image/jpeg:https://charleswiley.net/wp-content/uploads/2022/04/Electric-Vinyl.jpg
END:VEVENT
BEGIN:VEVENT
DTSTART;TZID=America/Los_Angeles:20220506T210000
DTEND;TZID=America/Los_Angeles:20220506T220000
DTSTAMP:20260423T235757
CREATED:20220409T173359Z
LAST-MODIFIED:20220409T173629Z
UID:15095-1651870800-1651874400@charleswiley.net
SUMMARY:Rocky Kramer
DESCRIPTION:SFS Art Fest 2022
URL:https://charleswiley.net/show/rocky-kramer/
LOCATION:Clarke Estate\, 10211 Pioneer Blvd\, Santa Fe Springs\, CA\, 90670\, United States
ATTACH;FMTTYPE=image/jpeg:https://charleswiley.net/wp-content/uploads/2022/04/Rocky-Kramer.jpg
END:VEVENT
BEGIN:VEVENT
DTSTART;VALUE=DATE:20220430
DTEND;VALUE=DATE:20220501
DTSTAMP:20260423T235757
CREATED:20220409T172746Z
LAST-MODIFIED:20220409T174208Z
UID:15093-1651276800-1651363199@charleswiley.net
SUMMARY:Electric Vinyl
DESCRIPTION:Sherman Oaks\, CA
URL:https://charleswiley.net/show/electric-vinyl-3/
ATTACH;FMTTYPE=image/jpeg:https://charleswiley.net/wp-content/uploads/2022/04/Electric-Vinyl.jpg
END:VEVENT
BEGIN:VEVENT
DTSTART;VALUE=DATE:20220423
DTEND;VALUE=DATE:20220424
DTSTAMP:20260423T235757
CREATED:20220409T172553Z
LAST-MODIFIED:20220409T172553Z
UID:15090-1650672000-1650758399@charleswiley.net
SUMMARY:Electric Vinyl
DESCRIPTION:Santa Clarita\, CA
URL:https://charleswiley.net/show/electric-vinyl-2/
ATTACH;FMTTYPE=image/jpeg:https://charleswiley.net/wp-content/uploads/2022/04/Electric-Vinyl.jpg
END:VEVENT
BEGIN:VEVENT
DTSTART;TZID=America/Los_Angeles:20220409T210000
DTEND;TZID=America/Los_Angeles:20220410T010000
DTSTAMP:20260423T235757
CREATED:20220409T172213Z
LAST-MODIFIED:20220410T192955Z
UID:15088-1649538000-1649552400@charleswiley.net
SUMMARY:Nico Fresard
DESCRIPTION:
URL:https://charleswiley.net/show/nico-fresard/
LOCATION:Marine Room Tavern\, 214 Ocean Ave\, Laguna Beach\, CA\, 92651\, United States
END:VEVENT
END:VCALENDAR