BEGIN:VCALENDAR
VERSION:2.0
PRODID:-//charleswiley.net - ECPv6.15.13//NONSGML v1.0//EN
CALSCALE:GREGORIAN
METHOD:PUBLISH
X-WR-CALNAME:charleswiley.net
X-ORIGINAL-URL:https://charleswiley.net
X-WR-CALDESC:Events for charleswiley.net
REFRESH-INTERVAL;VALUE=DURATION:PT1H
X-Robots-Tag:noindex
X-PUBLISHED-TTL:PT1H
BEGIN:VTIMEZONE
TZID:America/Los_Angeles
BEGIN:DAYLIGHT
TZOFFSETFROM:-0800
TZOFFSETTO:-0700
TZNAME:PDT
DTSTART:20160313T100000
END:DAYLIGHT
BEGIN:STANDARD
TZOFFSETFROM:-0700
TZOFFSETTO:-0800
TZNAME:PST
DTSTART:20161106T090000
END:STANDARD
BEGIN:DAYLIGHT
TZOFFSETFROM:-0800
TZOFFSETTO:-0700
TZNAME:PDT
DTSTART:20170312T100000
END:DAYLIGHT
BEGIN:STANDARD
TZOFFSETFROM:-0700
TZOFFSETTO:-0800
TZNAME:PST
DTSTART:20171105T090000
END:STANDARD
BEGIN:DAYLIGHT
TZOFFSETFROM:-0800
TZOFFSETTO:-0700
TZNAME:PDT
DTSTART:20180311T100000
END:DAYLIGHT
BEGIN:STANDARD
TZOFFSETFROM:-0700
TZOFFSETTO:-0800
TZNAME:PST
DTSTART:20181104T090000
END:STANDARD
END:VTIMEZONE
BEGIN:VEVENT
DTSTART;TZID=America/Los_Angeles:20170706T210000
DTEND;TZID=America/Los_Angeles:20170707T010000
DTSTAMP:20260425T071358
CREATED:20170612T184030Z
LAST-MODIFIED:20170612T184030Z
UID:928-1499374800-1499389200@charleswiley.net
SUMMARY:Mix 3
DESCRIPTION:
URL:https://charleswiley.net/show/mix-3-17/
LOCATION:Basement Tavern\, 2640 Main St\, Santa Monica\, CA\, 90405\, United States
END:VEVENT
BEGIN:VEVENT
DTSTART;VALUE=DATE:20170704
DTEND;VALUE=DATE:20170705
DTSTAMP:20260425T071358
CREATED:20170526T040011Z
LAST-MODIFIED:20170526T040011Z
UID:878-1499126400-1499212799@charleswiley.net
SUMMARY:Fantazzmo
DESCRIPTION:
URL:https://charleswiley.net/show/fantazzmo-44/
LOCATION:Private Event-Whittier\, Whittier\, CA\, United States
END:VEVENT
BEGIN:VEVENT
DTSTART;TZID=America/Los_Angeles:20170701T150000
DTEND;TZID=America/Los_Angeles:20170701T170000
DTSTAMP:20260425T071358
CREATED:20170612T183929Z
LAST-MODIFIED:20170612T183929Z
UID:925-1498921200-1498928400@charleswiley.net
SUMMARY:Two Way Light
DESCRIPTION:
URL:https://charleswiley.net/show/two-way-light-7/
LOCATION:Corks & Hops\, Lake Dr\, Crestline\, CA\, 92325\, United States
ATTACH;FMTTYPE=image/jpeg:https://charleswiley.net/wp-content/uploads/2016/02/Two-Way-Light.jpg
END:VEVENT
BEGIN:VEVENT
DTSTART;TZID=America/Los_Angeles:20170630T210000
DTEND;TZID=America/Los_Angeles:20170701T010000
DTSTAMP:20260425T071358
CREATED:20170612T183208Z
LAST-MODIFIED:20170612T183208Z
UID:923-1498856400-1498870800@charleswiley.net
SUMMARY:Mix 4
DESCRIPTION:
URL:https://charleswiley.net/show/mix-4-6/
LOCATION:Auld Dubliner\, 71 South Pine Ave\, Long Beach\, CA\, 90802\, United States
END:VEVENT
BEGIN:VEVENT
DTSTART;TZID=America/Los_Angeles:20170626T180000
DTEND;TZID=America/Los_Angeles:20170626T220000
DTSTAMP:20260425T071358
CREATED:20170706T220109Z
LAST-MODIFIED:20170706T220109Z
UID:953-1498500000-1498514400@charleswiley.net
SUMMARY:Piano Duo
DESCRIPTION:
URL:https://charleswiley.net/show/piano-duo-9/
LOCATION:Miceli’s\, 3655 Cahuenga Blvd\, Los Angeles\, CA\, 90068\, United States
END:VEVENT
BEGIN:VEVENT
DTSTART;TZID=America/Los_Angeles:20170624T170000
DTEND;TZID=America/Los_Angeles:20170624T190000
DTSTAMP:20260425T071358
CREATED:20170612T183103Z
LAST-MODIFIED:20170612T183103Z
UID:919-1498323600-1498330800@charleswiley.net
SUMMARY:Two Way Light
DESCRIPTION:
URL:https://charleswiley.net/show/two-way-light-5/
LOCATION:Celebrate Yorba Linda\, Main St\, Yorba Linda\, CA\, 92886\, United States
ATTACH;FMTTYPE=image/jpeg:https://charleswiley.net/wp-content/uploads/2016/02/Two-Way-Light.jpg
END:VEVENT
BEGIN:VEVENT
DTSTART;TZID=America/Los_Angeles:20170615T210000
DTEND;TZID=America/Los_Angeles:20170616T010000
DTSTAMP:20260425T071358
CREATED:20170526T035830Z
LAST-MODIFIED:20170526T035830Z
UID:876-1497560400-1497574800@charleswiley.net
SUMMARY:Mix 3
DESCRIPTION:
URL:https://charleswiley.net/show/mix-3-15/
LOCATION:Basement Tavern\, 2640 Main St\, Santa Monica\, CA\, 90405\, United States
END:VEVENT
BEGIN:VEVENT
DTSTART;TZID=America/Los_Angeles:20170610T140000
DTEND;TZID=America/Los_Angeles:20170610T160000
DTSTAMP:20260425T071358
CREATED:20170612T184652Z
LAST-MODIFIED:20170612T184652Z
UID:932-1497103200-1497110400@charleswiley.net
SUMMARY:The Singles
DESCRIPTION:
URL:https://charleswiley.net/show/the-singles/
LOCATION:Cobra Records\, 3639 San Fernando Rd\, Glendale\, CA\, 91204\, United States
END:VEVENT
BEGIN:VEVENT
DTSTART;TZID=America/Los_Angeles:20170609T230000
DTEND;TZID=America/Los_Angeles:20170609T235900
DTSTAMP:20260425T071358
CREATED:20170526T035736Z
LAST-MODIFIED:20170526T035736Z
UID:872-1497049200-1497052740@charleswiley.net
SUMMARY:AM Exchange
DESCRIPTION:
URL:https://charleswiley.net/show/am-exchange-3/
LOCATION:The Mint\, 6010 Pico Blvd W\, Los Angeles\, CA\, 90035\, United States
END:VEVENT
BEGIN:VEVENT
DTSTART;TZID=America/Los_Angeles:20170602T210000
DTEND;TZID=America/Los_Angeles:20170603T010000
DTSTAMP:20260425T071358
CREATED:20170211T213326Z
LAST-MODIFIED:20170317T043348Z
UID:640-1496437200-1496451600@charleswiley.net
SUMMARY:DJ Ison and Triple Threat
DESCRIPTION:
URL:https://charleswiley.net/show/dj-ison-and-triple-threat-3/
LOCATION:PVB\, 24600 Crenshaw Blvd\, Torrance\, CA\, 90505\, United States
END:VEVENT
BEGIN:VEVENT
DTSTART;TZID=America/Los_Angeles:20170601T200000
DTEND;TZID=America/Los_Angeles:20170601T210000
DTSTAMP:20260425T071358
CREATED:20170515T191759Z
LAST-MODIFIED:20170515T191843Z
UID:840-1496347200-1496350800@charleswiley.net
SUMMARY:Kris Angelis
DESCRIPTION:Heartbreak is Contagious EP Release Show
URL:https://charleswiley.net/show/kris-angelis-6/
LOCATION:Hotel Cafe\, 1623 N Cahuenga Blvd\, Los Angeles\, CA\, 90028\, United States
ATTACH;FMTTYPE=image/jpeg:https://charleswiley.net/wp-content/uploads/2016/02/Kris-Angelis.jpg
END:VEVENT
BEGIN:VEVENT
DTSTART;VALUE=DATE:20170527
DTEND;VALUE=DATE:20170528
DTSTAMP:20260425T071358
CREATED:20170321T050041Z
LAST-MODIFIED:20170321T050041Z
UID:702-1495843200-1495929599@charleswiley.net
SUMMARY:Paradium
DESCRIPTION:
URL:https://charleswiley.net/show/paradium-22/
LOCATION:Private Event-Malibu\, Malibu\, CA\, United States
ATTACH;FMTTYPE=image/jpeg:https://charleswiley.net/wp-content/uploads/2016/03/Paradium.jpg
END:VEVENT
BEGIN:VEVENT
DTSTART;TZID=America/Los_Angeles:20170526T210000
DTEND;TZID=America/Los_Angeles:20170526T235900
DTSTAMP:20260425T071358
CREATED:20170501T015227Z
LAST-MODIFIED:20170501T015227Z
UID:822-1495832400-1495843140@charleswiley.net
SUMMARY:Mix 4
DESCRIPTION:
URL:https://charleswiley.net/show/mix-4-5/
LOCATION:Auld Dubliner\, 71 South Pine Ave\, Long Beach\, CA\, 90802\, United States
END:VEVENT
BEGIN:VEVENT
DTSTART;TZID=America/Los_Angeles:20170525T220000
DTEND;TZID=America/Los_Angeles:20170526T010000
DTSTAMP:20260425T071358
CREATED:20170425T164552Z
LAST-MODIFIED:20170425T164552Z
UID:793-1495749600-1495760400@charleswiley.net
SUMMARY:Mix 3
DESCRIPTION:
URL:https://charleswiley.net/show/mix-3-14/
LOCATION:Basement Tavern\, 2640 Main St\, Santa Monica\, CA\, 90405\, United States
END:VEVENT
BEGIN:VEVENT
DTSTART;TZID=America/Los_Angeles:20170522T200000
DTEND;TZID=America/Los_Angeles:20170522T210000
DTSTAMP:20260425T071358
CREATED:20170516T183757Z
LAST-MODIFIED:20170516T183757Z
UID:853-1495483200-1495486800@charleswiley.net
SUMMARY:AM Exchange
DESCRIPTION:
URL:https://charleswiley.net/show/am-exchange-2/
LOCATION:Silverlake Lounge\, 2906 Sunset Blvd\, Los Angeles\, CA\, 90026\, United States
END:VEVENT
BEGIN:VEVENT
DTSTART;TZID=America/Los_Angeles:20170518T190000
DTEND;TZID=America/Los_Angeles:20170518T200000
DTSTAMP:20260425T071358
CREATED:20170407T205737Z
LAST-MODIFIED:20170407T205807Z
UID:737-1495134000-1495137600@charleswiley.net
SUMMARY:Darkhorse
DESCRIPTION:
URL:https://charleswiley.net/show/darkhorse/
LOCATION:Studio Seven\, 110 S. Horton Street\, Seattle\, WA\, 98134\, United States
ATTACH;FMTTYPE=image/jpeg:https://charleswiley.net/wp-content/uploads/2017/03/Dark-Horse.jpg
END:VEVENT
BEGIN:VEVENT
DTSTART;TZID=America/Los_Angeles:20170514T170000
DTEND;TZID=America/Los_Angeles:20170514T200000
DTSTAMP:20260425T071358
CREATED:20170425T165847Z
LAST-MODIFIED:20170425T165847Z
UID:802-1494781200-1494792000@charleswiley.net
SUMMARY:Fantazzmo
DESCRIPTION:
URL:https://charleswiley.net/show/fantazzmo-42/
LOCATION:Dirty Dogg Saloon\, Infinite Beauty Salon & Spa\, 10409 N Scottsdale Rd\, Scottsdale\, AZ\, 85253\, United States
ATTACH;FMTTYPE=image/jpeg:https://charleswiley.net/wp-content/uploads/2016/03/Fantazzmo.jpeg
END:VEVENT
BEGIN:VEVENT
DTSTART;TZID=America/Los_Angeles:20170513T200000
DTEND;TZID=America/Los_Angeles:20170513T220000
DTSTAMP:20260425T071358
CREATED:20170516T184606Z
LAST-MODIFIED:20170516T184606Z
UID:856-1494705600-1494712800@charleswiley.net
SUMMARY:Fantazzmo
DESCRIPTION:
URL:https://charleswiley.net/show/fantazzmo-43/
LOCATION:Dani P’s Cork & Tap\, 560 Greenbrier Dr\, Oceanside\, CA\, 92054\, United States
ATTACH;FMTTYPE=image/jpeg:https://charleswiley.net/wp-content/uploads/2016/03/Fantazzmo.jpeg
END:VEVENT
BEGIN:VEVENT
DTSTART;TZID=America/Los_Angeles:20170512T200000
DTEND;TZID=America/Los_Angeles:20170512T220000
DTSTAMP:20260425T071358
CREATED:20170211T213202Z
LAST-MODIFIED:20170413T072928Z
UID:637-1494619200-1494626400@charleswiley.net
SUMMARY:Fantazzmo
DESCRIPTION:
URL:https://charleswiley.net/show/fantazzmo-37/
LOCATION:Time Out Lounge\, 3129 S Mill Ave\, Tempe\, AZ\, 85282\, United States
ATTACH;FMTTYPE=image/jpeg:https://charleswiley.net/wp-content/uploads/2016/03/Fantazzmo.jpeg
END:VEVENT
BEGIN:VEVENT
DTSTART;TZID=America/Los_Angeles:20170511T200000
DTEND;TZID=America/Los_Angeles:20170511T220000
DTSTAMP:20260425T071358
CREATED:20170211T212756Z
LAST-MODIFIED:20170211T212756Z
UID:634-1494532800-1494540000@charleswiley.net
SUMMARY:Fantazzmo
DESCRIPTION:
URL:https://charleswiley.net/show/fantazzmo-36/
LOCATION:Rogue Bar\, 423 N Scottsdale Rd\, Scottsdale\, AZ\, 85257\, United States
END:VEVENT
BEGIN:VEVENT
DTSTART;TZID=America/Los_Angeles:20170507T170000
DTEND;TZID=America/Los_Angeles:20170507T220000
DTSTAMP:20260425T071358
CREATED:20170501T015139Z
LAST-MODIFIED:20170501T015139Z
UID:820-1494176400-1494194400@charleswiley.net
SUMMARY:Piano Duo
DESCRIPTION:
URL:https://charleswiley.net/show/piano-duo-8/
LOCATION:Miceli’s\, 3655 Cahuenga Blvd\, Los Angeles\, CA\, 90068\, United States
END:VEVENT
BEGIN:VEVENT
DTSTART;TZID=America/Los_Angeles:20170507T120000
DTEND;TZID=America/Los_Angeles:20170507T130000
DTSTAMP:20260425T071358
CREATED:20170321T045759Z
LAST-MODIFIED:20170321T045759Z
UID:696-1494158400-1494162000@charleswiley.net
SUMMARY:Sonia Harley
DESCRIPTION:Cancer Benefit for Ronnie James Dio \n 
URL:https://charleswiley.net/show/sonia-harley-3/
LOCATION:Los Encinos State Historic Park\, 16756 Moorpark St\, Encino\, CA\, 91436\, United States
ATTACH;FMTTYPE=image/jpeg:https://charleswiley.net/wp-content/uploads/2017/03/Sonia-Harley_176-cropped.jpg
END:VEVENT
BEGIN:VEVENT
DTSTART;TZID=America/Los_Angeles:20170506T210000
DTEND;TZID=America/Los_Angeles:20170506T235900
DTSTAMP:20260425T071358
CREATED:20170425T164451Z
LAST-MODIFIED:20170425T164451Z
UID:791-1494104400-1494115140@charleswiley.net
SUMMARY:Mix 3
DESCRIPTION:
URL:https://charleswiley.net/show/mix-3-13/
LOCATION:Kings Row Gastropub\, 20 E Colorado Blvd\, Pasadena\, CA\, 91103\, United States
END:VEVENT
BEGIN:VEVENT
DTSTART;TZID=America/Los_Angeles:20170504T180000
DTEND;TZID=America/Los_Angeles:20170504T220000
DTSTAMP:20260425T071358
CREATED:20170501T014914Z
LAST-MODIFIED:20170501T014914Z
UID:818-1493920800-1493935200@charleswiley.net
SUMMARY:Piano Duo
DESCRIPTION:
URL:https://charleswiley.net/show/piano-duo-7/
LOCATION:Miceli’s\, 3655 Cahuenga Blvd\, Los Angeles\, CA\, 90068\, United States
END:VEVENT
BEGIN:VEVENT
DTSTART;TZID=America/Los_Angeles:20170502T180000
DTEND;TZID=America/Los_Angeles:20170502T220000
DTSTAMP:20260425T071358
CREATED:20170501T014836Z
LAST-MODIFIED:20170501T014836Z
UID:816-1493748000-1493762400@charleswiley.net
SUMMARY:Piano Duo
DESCRIPTION:
URL:https://charleswiley.net/show/piano-duo-6/
LOCATION:Miceli’s\, 3655 Cahuenga Blvd\, Los Angeles\, CA\, 90068\, United States
END:VEVENT
BEGIN:VEVENT
DTSTART;TZID=America/Los_Angeles:20170501T210000
DTEND;TZID=America/Los_Angeles:20170501T220000
DTSTAMP:20260425T071358
CREATED:20170331T023447Z
LAST-MODIFIED:20170331T023447Z
UID:722-1493672400-1493676000@charleswiley.net
SUMMARY:Dark Horse
DESCRIPTION:
URL:https://charleswiley.net/show/dark-horse/
LOCATION:Viper Room\, 8852 W. SUNSET BLVD\, \, WEST HOLLYWOOD\, CA\, 90069\, United States
ATTACH;FMTTYPE=image/jpeg:https://charleswiley.net/wp-content/uploads/2017/03/Dark-Horse.jpg
END:VEVENT
BEGIN:VEVENT
DTSTART;TZID=America/Los_Angeles:20170430T210000
DTEND;TZID=America/Los_Angeles:20170430T235900
DTSTAMP:20260425T071358
CREATED:20170413T071455Z
LAST-MODIFIED:20170413T071543Z
UID:781-1493586000-1493596740@charleswiley.net
SUMMARY:Mind Meld
DESCRIPTION:
URL:https://charleswiley.net/show/mind-meld-2/
LOCATION:Stardust\, 7643 Firestone Blvd\, Downey\, CA\, 90241\, United States
ATTACH;FMTTYPE=image/jpeg:https://charleswiley.net/wp-content/uploads/2017/04/Mind-Meld.jpg
END:VEVENT
BEGIN:VEVENT
DTSTART;TZID=America/Los_Angeles:20170429T210000
DTEND;TZID=America/Los_Angeles:20170429T235900
DTSTAMP:20260425T071358
CREATED:20170413T070705Z
LAST-MODIFIED:20170413T072811Z
UID:778-1493499600-1493510340@charleswiley.net
SUMMARY:Fantazzmo
DESCRIPTION:
URL:https://charleswiley.net/show/fantazzmo-39/
LOCATION:Sierra Saloon\, 17730 Sierra Hwy\, Canyon Country\, CA\, 91351\, United States
ATTACH;FMTTYPE=image/jpeg:https://charleswiley.net/wp-content/uploads/2016/03/Fantazzmo.jpeg
END:VEVENT
BEGIN:VEVENT
DTSTART;TZID=America/Los_Angeles:20170422T210000
DTEND;TZID=America/Los_Angeles:20170423T010000
DTSTAMP:20260425T071358
CREATED:20170407T205144Z
LAST-MODIFIED:20170407T205144Z
UID:735-1492894800-1492909200@charleswiley.net
SUMMARY:Mix 4
DESCRIPTION:
URL:https://charleswiley.net/show/mix-4-4/
LOCATION:Basement Tavern\, 2640 Main St\, Santa Monica\, CA\, 90405\, United States
END:VEVENT
BEGIN:VEVENT
DTSTART;TZID=America/Los_Angeles:20170421T230000
DTEND;TZID=America/Los_Angeles:20170421T235900
DTSTAMP:20260425T071358
CREATED:20170413T070438Z
LAST-MODIFIED:20170413T070438Z
UID:775-1492815600-1492819140@charleswiley.net
SUMMARY:AM Exchange
DESCRIPTION:
URL:https://charleswiley.net/show/am-exchange/
LOCATION:Paladino’s\, 6101 Reseda Blvd\, Tarzana\, CA\, 91335\, United States
END:VEVENT
END:VCALENDAR