BEGIN:VCALENDAR
VERSION:2.0
PRODID:-//charleswiley.net - ECPv6.15.13//NONSGML v1.0//EN
CALSCALE:GREGORIAN
METHOD:PUBLISH
X-ORIGINAL-URL:https://charleswiley.net
X-WR-CALDESC:Events for charleswiley.net
REFRESH-INTERVAL;VALUE=DURATION:PT1H
X-Robots-Tag:noindex
X-PUBLISHED-TTL:PT1H
BEGIN:VTIMEZONE
TZID:America/Los_Angeles
BEGIN:DAYLIGHT
TZOFFSETFROM:-0800
TZOFFSETTO:-0700
TZNAME:PDT
DTSTART:20160313T100000
END:DAYLIGHT
BEGIN:STANDARD
TZOFFSETFROM:-0700
TZOFFSETTO:-0800
TZNAME:PST
DTSTART:20161106T090000
END:STANDARD
BEGIN:DAYLIGHT
TZOFFSETFROM:-0800
TZOFFSETTO:-0700
TZNAME:PDT
DTSTART:20170312T100000
END:DAYLIGHT
BEGIN:STANDARD
TZOFFSETFROM:-0700
TZOFFSETTO:-0800
TZNAME:PST
DTSTART:20171105T090000
END:STANDARD
BEGIN:DAYLIGHT
TZOFFSETFROM:-0800
TZOFFSETTO:-0700
TZNAME:PDT
DTSTART:20180311T100000
END:DAYLIGHT
BEGIN:STANDARD
TZOFFSETFROM:-0700
TZOFFSETTO:-0800
TZNAME:PST
DTSTART:20181104T090000
END:STANDARD
END:VTIMEZONE
BEGIN:VTIMEZONE
TZID:America/Denver
BEGIN:DAYLIGHT
TZOFFSETFROM:-0700
TZOFFSETTO:-0600
TZNAME:MDT
DTSTART:20160313T090000
END:DAYLIGHT
BEGIN:STANDARD
TZOFFSETFROM:-0600
TZOFFSETTO:-0700
TZNAME:MST
DTSTART:20161106T080000
END:STANDARD
BEGIN:DAYLIGHT
TZOFFSETFROM:-0700
TZOFFSETTO:-0600
TZNAME:MDT
DTSTART:20170312T090000
END:DAYLIGHT
BEGIN:STANDARD
TZOFFSETFROM:-0600
TZOFFSETTO:-0700
TZNAME:MST
DTSTART:20171105T080000
END:STANDARD
BEGIN:DAYLIGHT
TZOFFSETFROM:-0700
TZOFFSETTO:-0600
TZNAME:MDT
DTSTART:20180311T090000
END:DAYLIGHT
BEGIN:STANDARD
TZOFFSETFROM:-0600
TZOFFSETTO:-0700
TZNAME:MST
DTSTART:20181104T080000
END:STANDARD
END:VTIMEZONE
BEGIN:VTIMEZONE
TZID:America/Chicago
BEGIN:DAYLIGHT
TZOFFSETFROM:-0600
TZOFFSETTO:-0500
TZNAME:CDT
DTSTART:20160313T080000
END:DAYLIGHT
BEGIN:STANDARD
TZOFFSETFROM:-0500
TZOFFSETTO:-0600
TZNAME:CST
DTSTART:20161106T070000
END:STANDARD
BEGIN:DAYLIGHT
TZOFFSETFROM:-0600
TZOFFSETTO:-0500
TZNAME:CDT
DTSTART:20170312T080000
END:DAYLIGHT
BEGIN:STANDARD
TZOFFSETFROM:-0500
TZOFFSETTO:-0600
TZNAME:CST
DTSTART:20171105T070000
END:STANDARD
BEGIN:DAYLIGHT
TZOFFSETFROM:-0600
TZOFFSETTO:-0500
TZNAME:CDT
DTSTART:20180311T080000
END:DAYLIGHT
BEGIN:STANDARD
TZOFFSETFROM:-0500
TZOFFSETTO:-0600
TZNAME:CST
DTSTART:20181104T070000
END:STANDARD
END:VTIMEZONE
BEGIN:VTIMEZONE
TZID:America/North_Dakota/Beulah
BEGIN:DAYLIGHT
TZOFFSETFROM:-0600
TZOFFSETTO:-0500
TZNAME:CDT
DTSTART:20160313T080000
END:DAYLIGHT
BEGIN:STANDARD
TZOFFSETFROM:-0500
TZOFFSETTO:-0600
TZNAME:CST
DTSTART:20161106T070000
END:STANDARD
BEGIN:DAYLIGHT
TZOFFSETFROM:-0600
TZOFFSETTO:-0500
TZNAME:CDT
DTSTART:20170312T080000
END:DAYLIGHT
BEGIN:STANDARD
TZOFFSETFROM:-0500
TZOFFSETTO:-0600
TZNAME:CST
DTSTART:20171105T070000
END:STANDARD
BEGIN:DAYLIGHT
TZOFFSETFROM:-0600
TZOFFSETTO:-0500
TZNAME:CDT
DTSTART:20180311T080000
END:DAYLIGHT
BEGIN:STANDARD
TZOFFSETFROM:-0500
TZOFFSETTO:-0600
TZNAME:CST
DTSTART:20181104T070000
END:STANDARD
END:VTIMEZONE
BEGIN:VTIMEZONE
TZID:America/Phoenix
BEGIN:STANDARD
TZOFFSETFROM:-0700
TZOFFSETTO:-0700
TZNAME:MST
DTSTART:20160101T000000
END:STANDARD
END:VTIMEZONE
BEGIN:VEVENT
DTSTART;TZID=America/Los_Angeles:20171003T220000
DTEND;TZID=America/Los_Angeles:20171003T230000
DTSTAMP:20260425T031754
CREATED:20171003T075112Z
LAST-MODIFIED:20171003T075112Z
UID:1160-1507068000-1507071600@charleswiley.net
SUMMARY:The Singles
DESCRIPTION:
URL:https://charleswiley.net/show/the-singles-2/
LOCATION:Harvard and Stone\, 5221 Hollywood Blvd\, Los Angeles\, CA\, 90027\, United States
END:VEVENT
BEGIN:VEVENT
DTSTART;TZID=America/Los_Angeles:20170930T140000
DTEND;TZID=America/Los_Angeles:20170930T150000
DTSTAMP:20260425T031754
CREATED:20170817T054647Z
LAST-MODIFIED:20170817T054647Z
UID:1031-1506780000-1506783600@charleswiley.net
SUMMARY:Mind Meld
DESCRIPTION:
URL:https://charleswiley.net/show/mind-meld-3/
LOCATION:Pasadena Convention Center\, 300 E Green St\, Pasadena\, CA\, 91101\, United States
ATTACH;FMTTYPE=image/jpeg:https://charleswiley.net/wp-content/uploads/2017/08/NerdBot.jpg
END:VEVENT
BEGIN:VEVENT
DTSTART;TZID=America/Los_Angeles:20170928T220000
DTEND;TZID=America/Los_Angeles:20170929T010000
DTSTAMP:20260425T031754
CREATED:20170917T045802Z
LAST-MODIFIED:20170917T045802Z
UID:1106-1506636000-1506646800@charleswiley.net
SUMMARY:Mix 3
DESCRIPTION:
URL:https://charleswiley.net/show/mix-3-22/
LOCATION:Basement Tavern\, 2640 Main St\, Santa Monica\, CA\, 90405\, United States
END:VEVENT
BEGIN:VEVENT
DTSTART;TZID=America/Los_Angeles:20170922T180000
DTEND;TZID=America/Los_Angeles:20170922T200000
DTSTAMP:20260425T031754
CREATED:20170917T045652Z
LAST-MODIFIED:20170917T045711Z
UID:1103-1506103200-1506110400@charleswiley.net
SUMMARY:Sonia Harley
DESCRIPTION:
URL:https://charleswiley.net/show/sonia-harley-5/
LOCATION:Movie Premiere-Burbank\, Burbank\, CA\, United States
ATTACH;FMTTYPE=image/jpeg:https://charleswiley.net/wp-content/uploads/2017/03/Sonia-Harley_176-cropped.jpg
END:VEVENT
BEGIN:VEVENT
DTSTART;TZID=America/Los_Angeles:20170916T210000
DTEND;TZID=America/Los_Angeles:20170916T235900
DTSTAMP:20260425T031754
CREATED:20170917T045431Z
LAST-MODIFIED:20180303T062543Z
UID:1098-1505595600-1505606340@charleswiley.net
SUMMARY:Dive Bar Rockstars
DESCRIPTION:
URL:https://charleswiley.net/show/dive-bar-rockstars/
LOCATION:Copper Blues Rock Pub & Kitchen\, 581 Collection Blvd\, Oxnard\, CA\, 93036\, United States
ATTACH;FMTTYPE=image/jpeg:https://charleswiley.net/wp-content/uploads/2017/09/DIVEBAR-1.jpg
END:VEVENT
BEGIN:VEVENT
DTSTART;TZID=America/Los_Angeles:20170915T170000
DTEND;TZID=America/Los_Angeles:20170915T220000
DTSTAMP:20260425T031754
CREATED:20170917T044044Z
LAST-MODIFIED:20170917T044044Z
UID:1096-1505494800-1505512800@charleswiley.net
SUMMARY:Piano Duo
DESCRIPTION:
URL:https://charleswiley.net/show/piano-duo-14/
LOCATION:Miceli’s\, 3655 Cahuenga Blvd\, Los Angeles\, CA\, 90068\, United States
END:VEVENT
BEGIN:VEVENT
DTSTART;TZID=America/Los_Angeles:20170912T180000
DTEND;TZID=America/Los_Angeles:20170912T220000
DTSTAMP:20260425T031754
CREATED:20170917T043950Z
LAST-MODIFIED:20170917T043950Z
UID:1094-1505239200-1505253600@charleswiley.net
SUMMARY:Piano Duo
DESCRIPTION:
URL:https://charleswiley.net/show/piano-duo-13/
LOCATION:Miceli’s\, 3655 Cahuenga Blvd\, Los Angeles\, CA\, 90068\, United States
END:VEVENT
BEGIN:VEVENT
DTSTART;TZID=America/Los_Angeles:20170902T150000
DTEND;TZID=America/Los_Angeles:20170902T170000
DTSTAMP:20260425T031754
CREATED:20170729T051004Z
LAST-MODIFIED:20170729T051004Z
UID:998-1504364400-1504371600@charleswiley.net
SUMMARY:Two Way Light
DESCRIPTION:
URL:https://charleswiley.net/show/two-way-light-8/
LOCATION:Corks & Hops\, Lake Dr\, Crestline\, CA\, 92325\, United States
ATTACH;FMTTYPE=image/jpeg:https://charleswiley.net/wp-content/uploads/2017/03/Two-Way-Light-WG_228.jpg
END:VEVENT
BEGIN:VEVENT
DTSTART;TZID=America/Los_Angeles:20170831T210000
DTEND;TZID=America/Los_Angeles:20170901T010000
DTSTAMP:20260425T031754
CREATED:20170706T220506Z
LAST-MODIFIED:20170706T220506Z
UID:961-1504213200-1504227600@charleswiley.net
SUMMARY:Mix 3
DESCRIPTION:
URL:https://charleswiley.net/show/mix-3-20/
LOCATION:Basement Tavern\, 2640 Main St\, Santa Monica\, CA\, 90405\, United States
END:VEVENT
BEGIN:VEVENT
DTSTART;TZID=America/Los_Angeles:20170826T220000
DTEND;TZID=America/Los_Angeles:20170827T010000
DTSTAMP:20260425T031754
CREATED:20170817T054213Z
LAST-MODIFIED:20170817T054213Z
UID:1029-1503784800-1503795600@charleswiley.net
SUMMARY:Mix 3
DESCRIPTION:
URL:https://charleswiley.net/show/mix-3-24/
LOCATION:Kings Row Gastropub\, 20 E Colorado Blvd\, Pasadena\, CA\, 91103\, United States
END:VEVENT
BEGIN:VEVENT
DTSTART;TZID=America/Los_Angeles:20170819T180000
DTEND;TZID=America/Los_Angeles:20170819T230000
DTSTAMP:20260425T031754
CREATED:20170817T054123Z
LAST-MODIFIED:20170817T054123Z
UID:1026-1503165600-1503183600@charleswiley.net
SUMMARY:Piano Duo
DESCRIPTION:
URL:https://charleswiley.net/show/piano-duo-12/
LOCATION:Miceli’s\, 3655 Cahuenga Blvd\, Los Angeles\, CA\, 90068\, United States
END:VEVENT
BEGIN:VEVENT
DTSTART;TZID=America/Los_Angeles:20170818T220000
DTEND;TZID=America/Los_Angeles:20170819T010000
DTSTAMP:20260425T031754
CREATED:20170817T054034Z
LAST-MODIFIED:20170817T054034Z
UID:1023-1503093600-1503104400@charleswiley.net
SUMMARY:Mix 3
DESCRIPTION:
URL:https://charleswiley.net/show/mix-3-23/
LOCATION:O’Malley’s on Main\, 140 Main St\, Seal Beach\, CA\, 90740\, United States
END:VEVENT
BEGIN:VEVENT
DTSTART;TZID=America/Los_Angeles:20170817T210000
DTEND;TZID=America/Los_Angeles:20170817T220000
DTSTAMP:20260425T031754
CREATED:20170817T053837Z
LAST-MODIFIED:20170817T053837Z
UID:1020-1503003600-1503007200@charleswiley.net
SUMMARY:Sonia Harley
DESCRIPTION:
URL:https://charleswiley.net/show/sonia-harley-4/
LOCATION:Lucky Strike Live\, 6801 Hollywood Blvd\, Hollywood\, CA\, 90028\, United States
ATTACH;FMTTYPE=image/jpeg:https://charleswiley.net/wp-content/uploads/2017/03/Sonia-Harley_176-cropped.jpg
END:VEVENT
BEGIN:VEVENT
DTSTART;TZID=America/Los_Angeles:20170815T180000
DTEND;TZID=America/Los_Angeles:20170815T220000
DTSTAMP:20260425T031754
CREATED:20170817T053556Z
LAST-MODIFIED:20170817T053556Z
UID:1018-1502820000-1502834400@charleswiley.net
SUMMARY:Piano Duo
DESCRIPTION:
URL:https://charleswiley.net/show/piano-duo-11/
LOCATION:Miceli’s\, 3655 Cahuenga Blvd\, Los Angeles\, CA\, 90068\, United States
END:VEVENT
BEGIN:VEVENT
DTSTART;VALUE=DATE:20170813
DTEND;VALUE=DATE:20170814
DTSTAMP:20260425T031754
CREATED:20170729T050451Z
LAST-MODIFIED:20170729T050451Z
UID:990-1502582400-1502668799@charleswiley.net
SUMMARY:Fantazzmo
DESCRIPTION:August 13 – Fantazzmo – Private Show – Wichita\, KS
URL:https://charleswiley.net/show/fantazzmo-54/
LOCATION:Private Event – Wichita\, Kansas\, Wichita\, KS\, United States
ATTACH;FMTTYPE=image/jpeg:https://charleswiley.net/wp-content/uploads/2016/03/Fantazzmo.jpeg
END:VEVENT
BEGIN:VEVENT
DTSTART;TZID=America/Chicago:20170812T190000
DTEND;TZID=America/Chicago:20170812T220000
DTSTAMP:20260425T031754
CREATED:20170425T165455Z
LAST-MODIFIED:20170529T035959Z
UID:798-1502564400-1502575200@charleswiley.net
SUMMARY:Fantazzmo
DESCRIPTION:
URL:https://charleswiley.net/show/fantazzmo-41/
LOCATION:Samuel Brewskies\, 426 East 61st St N\, Park City\, KS\, 67219\, United States
END:VEVENT
BEGIN:VEVENT
DTSTART;VALUE=DATE:20170811
DTEND;VALUE=DATE:20170812
DTSTAMP:20260425T031754
CREATED:20170529T035705Z
LAST-MODIFIED:20170529T035705Z
UID:900-1502409600-1502495999@charleswiley.net
SUMMARY:Fantazzmo
DESCRIPTION:
URL:https://charleswiley.net/show/fantazzmo-50/
LOCATION:Bear Butte Creek Campground\, 13174 S.D.Hwy 34\, Sturgis\, SD\, 57785\, United States
ATTACH;FMTTYPE=image/jpeg:https://charleswiley.net/wp-content/uploads/2016/03/Fantazzmo.jpeg
END:VEVENT
BEGIN:VEVENT
DTSTART;VALUE=DATE:20170809
DTEND;VALUE=DATE:20170810
DTSTAMP:20260425T031754
CREATED:20170529T035606Z
LAST-MODIFIED:20170529T035606Z
UID:897-1502236800-1502323199@charleswiley.net
SUMMARY:Fantazzmo
DESCRIPTION:
URL:https://charleswiley.net/show/fantazzmo-49/
LOCATION:Bear Butte Creek Campground\, 13174 S.D.Hwy 34\, Sturgis\, SD\, 57785\, United States
ATTACH;FMTTYPE=image/jpeg:https://charleswiley.net/wp-content/uploads/2016/03/Fantazzmo.jpeg
END:VEVENT
BEGIN:VEVENT
DTSTART;VALUE=DATE:20170808
DTEND;VALUE=DATE:20170809
DTSTAMP:20260425T031754
CREATED:20170529T035338Z
LAST-MODIFIED:20170529T035338Z
UID:895-1502150400-1502236799@charleswiley.net
SUMMARY:Fantazzmo
DESCRIPTION:
URL:https://charleswiley.net/show/fantazzmo-48/
LOCATION:Days End Campground\, 2501 Avalanche Rd\, Sturgis\, SD\, 57785\, United States
ATTACH;FMTTYPE=image/jpeg:https://charleswiley.net/wp-content/uploads/2016/03/Fantazzmo.jpeg
END:VEVENT
BEGIN:VEVENT
DTSTART;VALUE=DATE:20170807
DTEND;VALUE=DATE:20170808
DTSTAMP:20260425T031754
CREATED:20170529T035234Z
LAST-MODIFIED:20170529T035234Z
UID:893-1502064000-1502150399@charleswiley.net
SUMMARY:Fantazzmo
DESCRIPTION:
URL:https://charleswiley.net/show/fantazzmo-47/
LOCATION:Days End Campground\, 2501 Avalanche Rd\, Sturgis\, SD\, 57785\, United States
ATTACH;FMTTYPE=image/jpeg:https://charleswiley.net/wp-content/uploads/2016/03/Fantazzmo.jpeg
END:VEVENT
BEGIN:VEVENT
DTSTART;TZID=America/Denver:20170806T190000
DTEND;TZID=America/Denver:20170806T220000
DTSTAMP:20260425T031754
CREATED:20170529T035100Z
LAST-MODIFIED:20170529T035100Z
UID:890-1502046000-1502056800@charleswiley.net
SUMMARY:Fantazzmo
DESCRIPTION:
URL:https://charleswiley.net/show/fantazzmo-46/
LOCATION:Days End Campground\, 2501 Avalanche Rd\, Sturgis\, SD\, 57785\, United States
ATTACH;FMTTYPE=image/jpeg:https://charleswiley.net/wp-content/uploads/2016/03/Fantazzmo.jpeg
END:VEVENT
BEGIN:VEVENT
DTSTART;TZID=America/North_Dakota/Beulah:20170805T200000
DTEND;TZID=America/North_Dakota/Beulah:20170805T230000
DTSTAMP:20260425T031754
CREATED:20170425T165324Z
LAST-MODIFIED:20170529T034534Z
UID:795-1501963200-1501974000@charleswiley.net
SUMMARY:Fantazzmo
DESCRIPTION:
URL:https://charleswiley.net/show/fantazzmo-40/
LOCATION:Elk Creek Lodge and Resort\, 8220 Elk Creek Rd\, Piedmont\, SD\, 57769\, United States
ATTACH;FMTTYPE=image/jpeg:https://charleswiley.net/wp-content/uploads/2016/03/Fantazzmo.jpeg
END:VEVENT
BEGIN:VEVENT
DTSTART;TZID=America/Los_Angeles:20170804T190000
DTEND;TZID=America/Los_Angeles:20170804T230000
DTSTAMP:20260425T031754
CREATED:20170529T033818Z
LAST-MODIFIED:20170529T033818Z
UID:885-1501873200-1501887600@charleswiley.net
SUMMARY:Fantazzmo
DESCRIPTION:
URL:https://charleswiley.net/show/fantazzmo-45/
LOCATION:Joe’s Place Bar & Grill\, 4302 Pendleton Drive\,  Rapid City\, SD\, 57701\, United States
ATTACH;FMTTYPE=image/jpeg:https://charleswiley.net/wp-content/uploads/2016/03/Fantazzmo.jpeg
END:VEVENT
BEGIN:VEVENT
DTSTART;TZID=America/Los_Angeles:20170729T210000
DTEND;TZID=America/Los_Angeles:20170729T235900
DTSTAMP:20260425T031754
CREATED:20170706T220242Z
LAST-MODIFIED:20170706T220242Z
UID:957-1501362000-1501372740@charleswiley.net
SUMMARY:Mix 3
DESCRIPTION:
URL:https://charleswiley.net/show/mix-3-19/
LOCATION:Kings Row Gastropub\, 20 E Colorado Blvd\, Pasadena\, CA\, 91103\, United States
END:VEVENT
BEGIN:VEVENT
DTSTART;TZID=America/Los_Angeles:20170722T210000
DTEND;TZID=America/Los_Angeles:20170722T235900
DTSTAMP:20260425T031754
CREATED:20170706T220157Z
LAST-MODIFIED:20170706T220157Z
UID:955-1500757200-1500767940@charleswiley.net
SUMMARY:Mix 3
DESCRIPTION:
URL:https://charleswiley.net/show/mix-3-18/
LOCATION:Kings Row Gastropub\, 20 E Colorado Blvd\, Pasadena\, CA\, 91103\, United States
END:VEVENT
BEGIN:VEVENT
DTSTART;TZID=America/Los_Angeles:20170718T210000
DTEND;TZID=America/Los_Angeles:20170719T000000
DTSTAMP:20260425T031754
CREATED:20170729T050622Z
LAST-MODIFIED:20170729T050622Z
UID:993-1500411600-1500422400@charleswiley.net
SUMMARY:Mix 3
DESCRIPTION:
URL:https://charleswiley.net/show/mix-3-21/
LOCATION:O’Malley’s on Main\, 140 Main St\, Seal Beach\, CA\, 90740\, United States
END:VEVENT
BEGIN:VEVENT
DTSTART;TZID=America/Los_Angeles:20170718T180000
DTEND;TZID=America/Los_Angeles:20170718T220000
DTSTAMP:20260425T031754
CREATED:20170729T050227Z
LAST-MODIFIED:20170729T050227Z
UID:988-1500400800-1500415200@charleswiley.net
SUMMARY:Piano Duo
DESCRIPTION:
URL:https://charleswiley.net/show/piano-duo-10/
LOCATION:Miceli’s\, 3655 Cahuenga Blvd\, Los Angeles\, CA\, 90068\, United States
END:VEVENT
BEGIN:VEVENT
DTSTART;TZID=America/Phoenix:20170714T170000
DTEND;TZID=America/Phoenix:20170714T200000
DTSTAMP:20260425T031754
CREATED:20170612T185002Z
LAST-MODIFIED:20170612T185002Z
UID:936-1500051600-1500062400@charleswiley.net
SUMMARY:Fantazzmo
DESCRIPTION:
URL:https://charleswiley.net/show/fantazzmo-53/
LOCATION:Desert Wind Harley Davidson\, 922 S Country Club Dr\, Mesa\, CA\, 85210\, United States
ATTACH;FMTTYPE=image/jpeg:https://charleswiley.net/wp-content/uploads/2016/03/Fantazzmo.jpeg
END:VEVENT
BEGIN:VEVENT
DTSTART;VALUE=DATE:20170713
DTEND;VALUE=DATE:20170714
DTSTAMP:20260425T031754
CREATED:20170612T184127Z
LAST-MODIFIED:20170612T184127Z
UID:930-1499904000-1499990399@charleswiley.net
SUMMARY:Fantazzmo
DESCRIPTION:
URL:https://charleswiley.net/show/fantazzmo-52/
LOCATION:Dirty Dogg Saloon\, Infinite Beauty Salon & Spa\, 10409 N Scottsdale Rd\, Scottsdale\, AZ\, 85253\, United States
ATTACH;FMTTYPE=image/jpeg:https://charleswiley.net/wp-content/uploads/2016/03/Fantazzmo.jpeg
END:VEVENT
BEGIN:VEVENT
DTSTART;VALUE=DATE:20170711
DTEND;VALUE=DATE:20170712
DTSTAMP:20260425T031754
CREATED:20170526T040246Z
LAST-MODIFIED:20170526T040246Z
UID:881-1499731200-1499817599@charleswiley.net
SUMMARY:Mix 3
DESCRIPTION:
URL:https://charleswiley.net/show/mix-3-16/
LOCATION:Copper Blues Rock Pub & Kitchen\, 581 Collection Blvd\, Oxnard\, CA\, 93036\, United States
END:VEVENT
END:VCALENDAR