BEGIN:VCALENDAR
VERSION:2.0
PRODID:-//charleswiley.net - ECPv6.15.13//NONSGML v1.0//EN
CALSCALE:GREGORIAN
METHOD:PUBLISH
X-ORIGINAL-URL:https://charleswiley.net
X-WR-CALDESC:Events for charleswiley.net
REFRESH-INTERVAL;VALUE=DURATION:PT1H
X-Robots-Tag:noindex
X-PUBLISHED-TTL:PT1H
BEGIN:VTIMEZONE
TZID:America/Los_Angeles
BEGIN:DAYLIGHT
TZOFFSETFROM:-0800
TZOFFSETTO:-0700
TZNAME:PDT
DTSTART:20170312T100000
END:DAYLIGHT
BEGIN:STANDARD
TZOFFSETFROM:-0700
TZOFFSETTO:-0800
TZNAME:PST
DTSTART:20171105T090000
END:STANDARD
BEGIN:DAYLIGHT
TZOFFSETFROM:-0800
TZOFFSETTO:-0700
TZNAME:PDT
DTSTART:20180311T100000
END:DAYLIGHT
BEGIN:STANDARD
TZOFFSETFROM:-0700
TZOFFSETTO:-0800
TZNAME:PST
DTSTART:20181104T090000
END:STANDARD
BEGIN:DAYLIGHT
TZOFFSETFROM:-0800
TZOFFSETTO:-0700
TZNAME:PDT
DTSTART:20190310T100000
END:DAYLIGHT
BEGIN:STANDARD
TZOFFSETFROM:-0700
TZOFFSETTO:-0800
TZNAME:PST
DTSTART:20191103T090000
END:STANDARD
BEGIN:DAYLIGHT
TZOFFSETFROM:-0800
TZOFFSETTO:-0700
TZNAME:PDT
DTSTART:20200308T100000
END:DAYLIGHT
BEGIN:STANDARD
TZOFFSETFROM:-0700
TZOFFSETTO:-0800
TZNAME:PST
DTSTART:20201101T090000
END:STANDARD
END:VTIMEZONE
BEGIN:VTIMEZONE
TZID:America/New_York
BEGIN:DAYLIGHT
TZOFFSETFROM:-0500
TZOFFSETTO:-0400
TZNAME:EDT
DTSTART:20170312T070000
END:DAYLIGHT
BEGIN:STANDARD
TZOFFSETFROM:-0400
TZOFFSETTO:-0500
TZNAME:EST
DTSTART:20171105T060000
END:STANDARD
BEGIN:DAYLIGHT
TZOFFSETFROM:-0500
TZOFFSETTO:-0400
TZNAME:EDT
DTSTART:20180311T070000
END:DAYLIGHT
BEGIN:STANDARD
TZOFFSETFROM:-0400
TZOFFSETTO:-0500
TZNAME:EST
DTSTART:20181104T060000
END:STANDARD
BEGIN:DAYLIGHT
TZOFFSETFROM:-0500
TZOFFSETTO:-0400
TZNAME:EDT
DTSTART:20190310T070000
END:DAYLIGHT
BEGIN:STANDARD
TZOFFSETFROM:-0400
TZOFFSETTO:-0500
TZNAME:EST
DTSTART:20191103T060000
END:STANDARD
END:VTIMEZONE
BEGIN:VTIMEZONE
TZID:America/Chicago
BEGIN:DAYLIGHT
TZOFFSETFROM:-0600
TZOFFSETTO:-0500
TZNAME:CDT
DTSTART:20170312T080000
END:DAYLIGHT
BEGIN:STANDARD
TZOFFSETFROM:-0500
TZOFFSETTO:-0600
TZNAME:CST
DTSTART:20171105T070000
END:STANDARD
BEGIN:DAYLIGHT
TZOFFSETFROM:-0600
TZOFFSETTO:-0500
TZNAME:CDT
DTSTART:20180311T080000
END:DAYLIGHT
BEGIN:STANDARD
TZOFFSETFROM:-0500
TZOFFSETTO:-0600
TZNAME:CST
DTSTART:20181104T070000
END:STANDARD
BEGIN:DAYLIGHT
TZOFFSETFROM:-0600
TZOFFSETTO:-0500
TZNAME:CDT
DTSTART:20190310T080000
END:DAYLIGHT
BEGIN:STANDARD
TZOFFSETFROM:-0500
TZOFFSETTO:-0600
TZNAME:CST
DTSTART:20191103T070000
END:STANDARD
END:VTIMEZONE
BEGIN:VEVENT
DTSTART;TZID=America/Los_Angeles:20190707T170000
DTEND;TZID=America/Los_Angeles:20190707T220000
DTSTAMP:20260424T095843
CREATED:20190703T221207Z
LAST-MODIFIED:20190703T221207Z
UID:2075-1562518800-1562536800@charleswiley.net
SUMMARY:Piano Duo
DESCRIPTION:
URL:https://charleswiley.net/show/piano-duo-16/
LOCATION:Miceli’s\, 3655 Cahuenga Blvd\, Los Angeles\, CA\, 90068\, United States
END:VEVENT
BEGIN:VEVENT
DTSTART;TZID=America/Los_Angeles:20190706T140000
DTEND;TZID=America/Los_Angeles:20190706T170000
DTSTAMP:20260424T095843
CREATED:20190614T003216Z
LAST-MODIFIED:20190614T003216Z
UID:2057-1562421600-1562432400@charleswiley.net
SUMMARY:Two Way Light
DESCRIPTION:
URL:https://charleswiley.net/show/two-way-light-9/
ATTACH;FMTTYPE=image/jpeg:https://charleswiley.net/wp-content/uploads/2016/02/Two-Way-Light.jpg
END:VEVENT
BEGIN:VEVENT
DTSTART;TZID=America/Los_Angeles:20190705T213000
DTEND;TZID=America/Los_Angeles:20190706T010000
DTSTAMP:20260424T095843
CREATED:20190703T221118Z
LAST-MODIFIED:20190703T221118Z
UID:2073-1562362200-1562374800@charleswiley.net
SUMMARY:Mix 3
DESCRIPTION:
URL:https://charleswiley.net/show/mix-3-38/
LOCATION:O’Malley’s on Main\, 140 Main St\, Seal Beach\, CA\, 90740\, United States
END:VEVENT
BEGIN:VEVENT
DTSTART;TZID=America/Los_Angeles:20190629T130000
DTEND;TZID=America/Los_Angeles:20190629T140000
DTSTAMP:20260424T095843
CREATED:20190614T003022Z
LAST-MODIFIED:20190614T003022Z
UID:2054-1561813200-1561816800@charleswiley.net
SUMMARY:Yoga for Drummers
DESCRIPTION:
URL:https://charleswiley.net/show/yoga-for-drummers/
LOCATION:Yogi Tree\, 4475 Vineland Ave\, North Hollywood\, 91602\, United States
END:VEVENT
BEGIN:VEVENT
DTSTART;TZID=America/Los_Angeles:20190628T200000
DTEND;TZID=America/Los_Angeles:20190628T235900
DTSTAMP:20260424T095843
CREATED:20190204T065356Z
LAST-MODIFIED:20190204T065413Z
UID:1942-1561752000-1561766340@charleswiley.net
SUMMARY:Darkhorse Rising
DESCRIPTION:
URL:https://charleswiley.net/show/darkhorse-rising-8/
LOCATION:Whisky a Go Go\, 8901 Sunset Blvd\, West Hollywood\, CA\, 90069\, United States
ATTACH;FMTTYPE=image/jpeg:https://charleswiley.net/wp-content/uploads/2017/12/P1044663-2.jpg
END:VEVENT
BEGIN:VEVENT
DTSTART;TZID=America/Los_Angeles:20190622T220000
DTEND;TZID=America/Los_Angeles:20190623T010000
DTSTAMP:20260424T095843
CREATED:20190614T002756Z
LAST-MODIFIED:20190614T002756Z
UID:2051-1561240800-1561251600@charleswiley.net
SUMMARY:Mix 3
DESCRIPTION:
URL:https://charleswiley.net/show/mix-3-37/
LOCATION:Jameson’s\, 2702 Main Street\, Santa Monica\, CA\, 90405\, United States
END:VEVENT
BEGIN:VEVENT
DTSTART;TZID=America/Los_Angeles:20190621T210000
DTEND;TZID=America/Los_Angeles:20190621T220000
DTSTAMP:20260424T095843
CREATED:20190614T002555Z
LAST-MODIFIED:20190614T002555Z
UID:2049-1561150800-1561154400@charleswiley.net
SUMMARY:Circa 62
DESCRIPTION:
URL:https://charleswiley.net/show/circa-62-18/
LOCATION:Harvard and Stone\, 5221 Hollywood Blvd\, Los Angeles\, CA\, 90027\, United States
ATTACH;FMTTYPE=image/jpeg:https://charleswiley.net/wp-content/uploads/2019/01/Circa62-PalmSprings.jpg
END:VEVENT
BEGIN:VEVENT
DTSTART;TZID=America/Los_Angeles:20190417T200000
DTEND;TZID=America/Los_Angeles:20190417T235900
DTSTAMP:20260424T095843
CREATED:20190204T065059Z
LAST-MODIFIED:20190204T065059Z
UID:1940-1555531200-1555545540@charleswiley.net
SUMMARY:Darkhorse Rising
DESCRIPTION:
URL:https://charleswiley.net/show/darkhorse-rising-7/
LOCATION:Whisky a Go Go\, 8901 Sunset Blvd\, West Hollywood\, CA\, 90069\, United States
ATTACH;FMTTYPE=image/jpeg:https://charleswiley.net/wp-content/uploads/2017/12/P1044663-2.jpg
END:VEVENT
BEGIN:VEVENT
DTSTART;TZID=America/Los_Angeles:20190413T210000
DTEND;TZID=America/Los_Angeles:20190413T230000
DTSTAMP:20260424T095843
CREATED:20181126T032607Z
LAST-MODIFIED:20190403T221508Z
UID:1830-1555189200-1555196400@charleswiley.net
SUMMARY:Dive Bar Rockstars
DESCRIPTION:
URL:https://charleswiley.net/show/dive-bar-rockstars-23/
LOCATION:Copper Blues Rock Pub & Kitchen\, 581 Collection Blvd\, Oxnard\, CA\, 93036\, United States
ATTACH;FMTTYPE=image/jpeg:https://charleswiley.net/wp-content/uploads/2017/09/DIVEBAR-1.jpg
END:VEVENT
BEGIN:VEVENT
DTSTART;TZID=America/Los_Angeles:20190405T210000
DTEND;TZID=America/Los_Angeles:20190406T010000
DTSTAMP:20260424T095843
CREATED:20190403T221300Z
LAST-MODIFIED:20190403T221300Z
UID:1980-1554498000-1554512400@charleswiley.net
SUMMARY:DJ Blues
DESCRIPTION:
URL:https://charleswiley.net/show/dj-blues-2/
LOCATION:PVB\, 24600 Crenshaw Blvd\, Torrance\, CA\, 90505\, United States
END:VEVENT
BEGIN:VEVENT
DTSTART;TZID=America/Los_Angeles:20190404T220000
DTEND;TZID=America/Los_Angeles:20190405T013000
DTSTAMP:20260424T095843
CREATED:20190403T221427Z
LAST-MODIFIED:20190403T221427Z
UID:1982-1554415200-1554427800@charleswiley.net
SUMMARY:Mix 3
DESCRIPTION:
URL:https://charleswiley.net/show/mix-3-36/
LOCATION:Auld Dubliner\, 71 South Pine Ave\, Long Beach\, CA\, 90802\, United States
END:VEVENT
BEGIN:VEVENT
DTSTART;TZID=America/Los_Angeles:20190403T230000
DTEND;TZID=America/Los_Angeles:20190403T235900
DTSTAMP:20260424T095843
CREATED:20190403T221118Z
LAST-MODIFIED:20190403T221118Z
UID:1978-1554332400-1554335940@charleswiley.net
SUMMARY:Circa 62
DESCRIPTION:
URL:https://charleswiley.net/show/circa-62-17/
LOCATION:Viper Room\, 8852 W. SUNSET BLVD\, \, WEST HOLLYWOOD\, CA\, 90069\, United States
ATTACH;FMTTYPE=image/jpeg:https://charleswiley.net/wp-content/uploads/2019/01/Circa62-PalmSprings.jpg
END:VEVENT
BEGIN:VEVENT
DTSTART;TZID=America/Los_Angeles:20190316T210000
DTEND;TZID=America/Los_Angeles:20190316T230000
DTSTAMP:20260424T095843
CREATED:20181126T032512Z
LAST-MODIFIED:20181126T032512Z
UID:1828-1552770000-1552777200@charleswiley.net
SUMMARY:Dive Bar Rockstars
DESCRIPTION:
URL:https://charleswiley.net/show/dive-bar-rockstars-22/
LOCATION:Copper Blues Rock Pub & Kitchen\, 581 Collection Blvd\, Oxnard\, CA\, 93036\, United States
ATTACH;FMTTYPE=image/jpeg:https://charleswiley.net/wp-content/uploads/2017/09/DIVEBAR-1.jpg
END:VEVENT
BEGIN:VEVENT
DTSTART;TZID=America/Los_Angeles:20190315T210000
DTEND;TZID=America/Los_Angeles:20190315T220000
DTSTAMP:20260424T095843
CREATED:20181126T032345Z
LAST-MODIFIED:20181126T032345Z
UID:1826-1552683600-1552687200@charleswiley.net
SUMMARY:DarkHorse Rising
DESCRIPTION:
URL:https://charleswiley.net/show/darkhorse-rising-6/
LOCATION:Whisky a Go Go\, 8901 Sunset Blvd\, West Hollywood\, CA\, 90069\, United States
ATTACH;FMTTYPE=image/jpeg:https://charleswiley.net/wp-content/uploads/2017/12/P1044663-2.jpg
END:VEVENT
BEGIN:VEVENT
DTSTART;TZID=America/Los_Angeles:20190309T210000
DTEND;TZID=America/Los_Angeles:20190309T220000
DTSTAMP:20260424T095843
CREATED:20190204T064613Z
LAST-MODIFIED:20190204T064613Z
UID:1935-1552165200-1552168800@charleswiley.net
SUMMARY:Lauren Nikohl
DESCRIPTION:
URL:https://charleswiley.net/show/lauren-nikohl/
LOCATION:Harvard Yard Bar\, 1400 S Western Ave\, Los Angeles\, CA\, 90006\, United States
ATTACH;FMTTYPE=image/jpeg:https://charleswiley.net/wp-content/uploads/2019/02/FB_IMG_1549262463042.jpg
END:VEVENT
BEGIN:VEVENT
DTSTART;TZID=America/Los_Angeles:20190301T210000
DTEND;TZID=America/Los_Angeles:20190301T235900
DTSTAMP:20260424T095843
CREATED:20190123T193448Z
LAST-MODIFIED:20190123T193448Z
UID:1886-1551474000-1551484740@charleswiley.net
SUMMARY:DJ Blues
DESCRIPTION:
URL:https://charleswiley.net/show/dj-blues/
LOCATION:PVB\, 24600 Crenshaw Blvd\, Torrance\, CA\, 90505\, United States
END:VEVENT
BEGIN:VEVENT
DTSTART;TZID=America/Los_Angeles:20190228T200000
DTEND;TZID=America/Los_Angeles:20190228T210000
DTSTAMP:20260424T095843
CREATED:20181126T031947Z
LAST-MODIFIED:20181126T031947Z
UID:1821-1551384000-1551387600@charleswiley.net
SUMMARY:DarkHorse Rising
DESCRIPTION:
URL:https://charleswiley.net/show/darkhorse-rising-5/
LOCATION:Whisky a Go Go\, 8901 Sunset Blvd\, West Hollywood\, CA\, 90069\, United States
ATTACH;FMTTYPE=image/jpeg:https://charleswiley.net/wp-content/uploads/2017/12/P1044663-2.jpg
END:VEVENT
BEGIN:VEVENT
DTSTART;TZID=America/Los_Angeles:20190223T210000
DTEND;TZID=America/Los_Angeles:20190223T230000
DTSTAMP:20260424T095843
CREATED:20181126T031836Z
LAST-MODIFIED:20190129T214308Z
UID:1819-1550955600-1550962800@charleswiley.net
SUMMARY:Dive Bar Rockstars
DESCRIPTION:
URL:https://charleswiley.net/show/dive-bar-rockstars-20/
LOCATION:Copper Blues Rock Pub & Kitchen\, 581 Collection Blvd\, Oxnard\, CA\, 93036\, United States
ATTACH;FMTTYPE=image/jpeg:https://charleswiley.net/wp-content/uploads/2017/09/DIVEBAR-1.jpg
END:VEVENT
BEGIN:VEVENT
DTSTART;TZID=America/Los_Angeles:20190222T200000
DTEND;TZID=America/Los_Angeles:20190222T210000
DTSTAMP:20260424T095843
CREATED:20190123T193355Z
LAST-MODIFIED:20190123T193355Z
UID:1882-1550865600-1550869200@charleswiley.net
SUMMARY:Ryatt
DESCRIPTION:
URL:https://charleswiley.net/show/ryatt-5/
LOCATION:Malone’s\, 604 E Dyer Rd\, Santa Ana\, CA\, 92705\, United States
ATTACH;FMTTYPE=image/jpeg:https://charleswiley.net/wp-content/uploads/2019/01/Ryatt.jpg
END:VEVENT
BEGIN:VEVENT
DTSTART;TZID=America/Los_Angeles:20190217T170000
DTEND;TZID=America/Los_Angeles:20190217T190000
DTSTAMP:20260424T095843
CREATED:20190123T192636Z
LAST-MODIFIED:20190123T192647Z
UID:1878-1550422800-1550430000@charleswiley.net
SUMMARY:Dive Bar Rockstars
DESCRIPTION:
URL:https://charleswiley.net/show/dive-bar-rockstars-24/
LOCATION:Genghis Cohen\, 740 N Fairfax Ave\, Los Angeles\, CA\, 90046\, United States
ATTACH;FMTTYPE=image/jpeg:https://charleswiley.net/wp-content/uploads/2017/09/DIVEBAR-1.jpg
END:VEVENT
BEGIN:VEVENT
DTSTART;TZID=America/Los_Angeles:20190213T210000
DTEND;TZID=America/Los_Angeles:20190213T220000
DTSTAMP:20260424T095843
CREATED:20190204T063801Z
LAST-MODIFIED:20190204T063801Z
UID:1933-1550091600-1550095200@charleswiley.net
SUMMARY:Circa 62
DESCRIPTION:
URL:https://charleswiley.net/show/circa-62-16/
LOCATION:Redwood Bar & Grill\, 316 W 2nd St\, Los Angeles\, CA\, 90012\, United States
ATTACH;FMTTYPE=image/jpeg:https://charleswiley.net/wp-content/uploads/2019/01/Circa62-PalmSprings.jpg
END:VEVENT
BEGIN:VEVENT
DTSTART;TZID=America/Los_Angeles:20190119T220000
DTEND;TZID=America/Los_Angeles:20190119T233000
DTSTAMP:20260424T095843
CREATED:20190123T192320Z
LAST-MODIFIED:20190123T192320Z
UID:1875-1547935200-1547940600@charleswiley.net
SUMMARY:Circa 62
DESCRIPTION:
URL:https://charleswiley.net/show/circa-62-15/
LOCATION:Palm Canyon Roadhouse\, 535 S Palm Canyon Dr.\, Palm Springs\, CA\, 92264\, United States
ATTACH;FMTTYPE=image/jpeg:https://charleswiley.net/wp-content/uploads/2019/01/Circa62-PalmSprings.jpg
END:VEVENT
BEGIN:VEVENT
DTSTART;TZID=America/Los_Angeles:20181212T210000
DTEND;TZID=America/Los_Angeles:20181212T235900
DTSTAMP:20260424T095843
CREATED:20181126T031631Z
LAST-MODIFIED:20181126T031631Z
UID:1817-1544648400-1544659140@charleswiley.net
SUMMARY:Kris Angelis
DESCRIPTION:
URL:https://charleswiley.net/show/kris-angelis-29/
LOCATION:Basement Tavern\, 2640 Main St\, Santa Monica\, CA\, 90405\, United States
ATTACH;FMTTYPE=image/jpeg:https://charleswiley.net/wp-content/uploads/2016/02/Kris-Angelis.jpg
END:VEVENT
BEGIN:VEVENT
DTSTART;TZID=America/Los_Angeles:20181207T210000
DTEND;TZID=America/Los_Angeles:20181207T220000
DTSTAMP:20260424T095843
CREATED:20180918T041613Z
LAST-MODIFIED:20180918T041613Z
UID:1788-1544216400-1544220000@charleswiley.net
SUMMARY:Darkhorse Rising
DESCRIPTION:Opening for KIX
URL:https://charleswiley.net/show/darkhorse-rising-4/
LOCATION:Whisky a Go Go\, 8901 Sunset Blvd\, West Hollywood\, CA\, 90069\, United States
ATTACH;FMTTYPE=image/jpeg:https://charleswiley.net/wp-content/uploads/2018/09/December7th-2-663x1024.jpg
END:VEVENT
BEGIN:VEVENT
DTSTART;TZID=America/Los_Angeles:20181206T200000
DTEND;TZID=America/Los_Angeles:20181206T235900
DTSTAMP:20260424T095843
CREATED:20180918T041239Z
LAST-MODIFIED:20180918T041239Z
UID:1785-1544126400-1544140740@charleswiley.net
SUMMARY:Paradium
DESCRIPTION:
URL:https://charleswiley.net/show/paradium-30/
LOCATION:Auld Dubliner\, 71 South Pine Ave\, Long Beach\, CA\, 90802\, United States
END:VEVENT
BEGIN:VEVENT
DTSTART;TZID=America/Los_Angeles:20181201T200000
DTEND;TZID=America/Los_Angeles:20181201T230000
DTSTAMP:20260424T095843
CREATED:20180918T041147Z
LAST-MODIFIED:20180918T041147Z
UID:1783-1543694400-1543705200@charleswiley.net
SUMMARY:Dive Bar Rockstars
DESCRIPTION:
URL:https://charleswiley.net/show/dive-bar-rockstars-19/
LOCATION:Copper Blues Rock Pub & Kitchen\, 581 Collection Blvd\, Oxnard\, CA\, 93036\, United States
ATTACH;FMTTYPE=image/jpeg:https://charleswiley.net/wp-content/uploads/2017/09/DIVEBAR-1.jpg
END:VEVENT
BEGIN:VEVENT
DTSTART;TZID=America/Los_Angeles:20181117T200000
DTEND;TZID=America/Los_Angeles:20181117T230000
DTSTAMP:20260424T095843
CREATED:20180918T041031Z
LAST-MODIFIED:20180918T041031Z
UID:1781-1542484800-1542495600@charleswiley.net
SUMMARY:Dive Bar Rockstars
DESCRIPTION:
URL:https://charleswiley.net/show/dive-bar-rockstars-17/
LOCATION:Copper Blues Rock Pub & Kitchen\, 581 Collection Blvd\, Oxnard\, CA\, 93036\, United States
ATTACH;FMTTYPE=image/jpeg:https://charleswiley.net/wp-content/uploads/2017/09/DIVEBAR-1.jpg
END:VEVENT
BEGIN:VEVENT
DTSTART;TZID=America/New_York:20181110T210000
DTEND;TZID=America/New_York:20181110T220000
DTSTAMP:20260424T095843
CREATED:20180918T040927Z
LAST-MODIFIED:20180918T040927Z
UID:1779-1541883600-1541887200@charleswiley.net
SUMMARY:Ryatt and Fantazzmo
DESCRIPTION:
URL:https://charleswiley.net/show/ryatt-and-fantazzmo-14/
LOCATION:The Prophet Bar\, 2548 Elm St.\, Dallas\, TX\, 75226\, United States
END:VEVENT
BEGIN:VEVENT
DTSTART;TZID=America/New_York:20181109T200000
DTEND;TZID=America/New_York:20181109T210000
DTSTAMP:20260424T095843
CREATED:20180823T235737Z
LAST-MODIFIED:20180823T235737Z
UID:1694-1541793600-1541797200@charleswiley.net
SUMMARY:Ryatt and Fantazzmo
DESCRIPTION:Fall Tour
URL:https://charleswiley.net/show/ryatt-and-fantazzmo-12/
LOCATION:Cold Brew Rock Bar\, 4500 San Bernardo Avenue Suite 103\, Laredo\, TX\, 78046\, United States
END:VEVENT
BEGIN:VEVENT
DTSTART;TZID=America/Chicago:20181108T210000
DTEND;TZID=America/Chicago:20181108T220000
DTSTAMP:20260424T095843
CREATED:20180918T040710Z
LAST-MODIFIED:20180918T040710Z
UID:1776-1541710800-1541714400@charleswiley.net
SUMMARY:Ryatt and Fantazzmo
DESCRIPTION:
URL:https://charleswiley.net/show/ryatt-and-fantazzmo-13/
LOCATION:Dirty Dog Bar\, 505 E 6th St\, Austin\, TX\, 78707\, United States
END:VEVENT
END:VCALENDAR